BEGIN:VCALENDAR
VERSION:2.0
PRODID:https://www.kufer.de/kuferweb / DE
METHOD:PUBLISH
CALSCALE:GREGORIAN
X-WR-TIMEZONE:Europe/Berlin
BEGIN:VTIMEZONE
TZID:Europe/Berlin
X-LIC-LOCATION:Europe/Berlin
BEGIN:DAYLIGHT
TZOFFSETFROM:+0100
TZOFFSETTO:+0200
TZNAME:CEST
DTSTART:19700329T020000
RRULE:FREQ=YEARLY;INTERVAL=1;BYDAY=-1SU;BYMONTH=3
END:DAYLIGHT
BEGIN:STANDARD
TZOFFSETFROM:+0200
TZOFFSETTO:+0100
TZNAME:CET
DTSTART:19701025T030000
RRULE:FREQ=YEARLY;INTERVAL=1;BYDAY=-1SU;BYMONTH=10
END:STANDARD
END:VTIMEZONE
BEGIN:VEVENT
DTSTAMP:20260424T172055
DTSTART;TZID=Europe/Berlin:20260805T090000
DTEND;TZID=Europe/Berlin:20260805T121500
UID:26B75111-20260805T090000@VHSWILDESHAUSEN E. V.
SUMMARY:NATURHELDEN – Stachelige Untermieter willkommen! Ein Zuhause für Igel – wir bauen ein Igelhaus für Kinder von 8 bis 13 Jahren (26B75111) 
LOCATION:KS 4 Holzwerkstatt, Wittekindstraße 9, 27793 Wildeshausen
END:VEVENT
BEGIN:VEVENT
DTSTAMP:20260424T172055
DTSTART;TZID=Europe/Berlin:20260806T090000
DTEND;TZID=Europe/Berlin:20260806T121500
UID:26B75111-20260806T090000@VHSWILDESHAUSEN E. V.
SUMMARY:NATURHELDEN – Stachelige Untermieter willkommen! Ein Zuhause für Igel – wir bauen ein Igelhaus für Kinder von 8 bis 13 Jahren (26B75111) 
LOCATION:KS 4 Holzwerkstatt, Wittekindstraße 9, 27793 Wildeshausen
END:VEVENT
END:VCALENDAR