BEGIN:VCALENDAR
VERSION:2.0
PRODID:https://www.kufer.de/kuferweb / DE
METHOD:PUBLISH
CALSCALE:GREGORIAN
X-WR-TIMEZONE:Europe/Berlin
BEGIN:VTIMEZONE
TZID:Europe/Berlin
X-LIC-LOCATION:Europe/Berlin
BEGIN:DAYLIGHT
TZOFFSETFROM:+0100
TZOFFSETTO:+0200
TZNAME:CEST
DTSTART:19700329T020000
RRULE:FREQ=YEARLY;INTERVAL=1;BYDAY=-1SU;BYMONTH=3
END:DAYLIGHT
BEGIN:STANDARD
TZOFFSETFROM:+0200
TZOFFSETTO:+0100
TZNAME:CET
DTSTART:19701025T030000
RRULE:FREQ=YEARLY;INTERVAL=1;BYDAY=-1SU;BYMONTH=10
END:STANDARD
END:VTIMEZONE
BEGIN:VEVENT
DTSTAMP:20260423T183043
DTSTART;TZID=Europe/Berlin:20261102T093000
DTEND;TZID=Europe/Berlin:20261102T153000
UID:26B51204-20261102T093000@VHSWILDESHAUSEN E. V.
SUMMARY:Deutsche Gebärdensprache (DGS) II Vertiefen der Grundlagen zur Kommunikation mit Menschen ohne Gehör zur Förderung der Inklusion in die Berufs- und Arbeitswelt (Bildungsurlaub für fortgeschrittene Anfänger*innen) (26B51204) 
LOCATION:VHS, Raum 6, Wittekindstraße 9, 27793 Wildeshausen
END:VEVENT
BEGIN:VEVENT
DTSTAMP:20260423T183043
DTSTART;TZID=Europe/Berlin:20261103T093000
DTEND;TZID=Europe/Berlin:20261103T153000
UID:26B51204-20261103T093000@VHSWILDESHAUSEN E. V.
SUMMARY:Deutsche Gebärdensprache (DGS) II Vertiefen der Grundlagen zur Kommunikation mit Menschen ohne Gehör zur Förderung der Inklusion in die Berufs- und Arbeitswelt (Bildungsurlaub für fortgeschrittene Anfänger*innen) (26B51204) 
LOCATION:VHS, Raum 6, Wittekindstraße 9, 27793 Wildeshausen
END:VEVENT
BEGIN:VEVENT
DTSTAMP:20260423T183043
DTSTART;TZID=Europe/Berlin:20261104T093000
DTEND;TZID=Europe/Berlin:20261104T153000
UID:26B51204-20261104T093000@VHSWILDESHAUSEN E. V.
SUMMARY:Deutsche Gebärdensprache (DGS) II Vertiefen der Grundlagen zur Kommunikation mit Menschen ohne Gehör zur Förderung der Inklusion in die Berufs- und Arbeitswelt (Bildungsurlaub für fortgeschrittene Anfänger*innen) (26B51204) 
LOCATION:VHS, Raum 6, Wittekindstraße 9, 27793 Wildeshausen
END:VEVENT
BEGIN:VEVENT
DTSTAMP:20260423T183043
DTSTART;TZID=Europe/Berlin:20261105T093000
DTEND;TZID=Europe/Berlin:20261105T153000
UID:26B51204-20261105T093000@VHSWILDESHAUSEN E. V.
SUMMARY:Deutsche Gebärdensprache (DGS) II Vertiefen der Grundlagen zur Kommunikation mit Menschen ohne Gehör zur Förderung der Inklusion in die Berufs- und Arbeitswelt (Bildungsurlaub für fortgeschrittene Anfänger*innen) (26B51204) 
LOCATION:VHS, Raum 6, Wittekindstraße 9, 27793 Wildeshausen
END:VEVENT
BEGIN:VEVENT
DTSTAMP:20260423T183043
DTSTART;TZID=Europe/Berlin:20261106T093000
DTEND;TZID=Europe/Berlin:20261106T153000
UID:26B51204-20261106T093000@VHSWILDESHAUSEN E. V.
SUMMARY:Deutsche Gebärdensprache (DGS) II Vertiefen der Grundlagen zur Kommunikation mit Menschen ohne Gehör zur Förderung der Inklusion in die Berufs- und Arbeitswelt (Bildungsurlaub für fortgeschrittene Anfänger*innen) (26B51204) 
LOCATION:VHS, Raum 6, Wittekindstraße 9, 27793 Wildeshausen
END:VEVENT
END:VCALENDAR