BEGIN:VCALENDAR
VERSION:2.0
PRODID:https://www.kufer.de/kuferweb / DE
METHOD:PUBLISH
CALSCALE:GREGORIAN
X-WR-TIMEZONE:Europe/Berlin
BEGIN:VTIMEZONE
TZID:Europe/Berlin
X-LIC-LOCATION:Europe/Berlin
BEGIN:DAYLIGHT
TZOFFSETFROM:+0100
TZOFFSETTO:+0200
TZNAME:CEST
DTSTART:19700329T020000
RRULE:FREQ=YEARLY;INTERVAL=1;BYDAY=-1SU;BYMONTH=3
END:DAYLIGHT
BEGIN:STANDARD
TZOFFSETFROM:+0200
TZOFFSETTO:+0100
TZNAME:CET
DTSTART:19701025T030000
RRULE:FREQ=YEARLY;INTERVAL=1;BYDAY=-1SU;BYMONTH=10
END:STANDARD
END:VTIMEZONE
BEGIN:VEVENT
DTSTAMP:20260423T183344
DTSTART;TZID=Europe/Berlin:20260115T101500
DTEND;TZID=Europe/Berlin:20260115T110000
UID:26A61007-20260115T101500@VHSWILDESHAUSEN E. V.
SUMMARY:Sachkunde für Menschen mit Lernschwierigkeiten (26A61007) 
LOCATION:proTeam Himmelsthür gGmbH Werkstätten, Dr.-Klingenberg-Straße 83, Dr.-Klingenberg-Straße 83, 27793 Wildeshausen
END:VEVENT
BEGIN:VEVENT
DTSTAMP:20260423T183344
DTSTART;TZID=Europe/Berlin:20260122T101500
DTEND;TZID=Europe/Berlin:20260122T110000
UID:26A61007-20260122T101500@VHSWILDESHAUSEN E. V.
SUMMARY:Sachkunde für Menschen mit Lernschwierigkeiten (26A61007) 
LOCATION:proTeam Himmelsthür gGmbH Werkstätten, Dr.-Klingenberg-Straße 83, Dr.-Klingenberg-Straße 83, 27793 Wildeshausen
END:VEVENT
BEGIN:VEVENT
DTSTAMP:20260423T183344
DTSTART;TZID=Europe/Berlin:20260129T101500
DTEND;TZID=Europe/Berlin:20260129T110000
UID:26A61007-20260129T101500@VHSWILDESHAUSEN E. V.
SUMMARY:Sachkunde für Menschen mit Lernschwierigkeiten (26A61007) 
LOCATION:proTeam Himmelsthür gGmbH Werkstätten, Dr.-Klingenberg-Straße 83, Dr.-Klingenberg-Straße 83, 27793 Wildeshausen
END:VEVENT
BEGIN:VEVENT
DTSTAMP:20260423T183344
DTSTART;TZID=Europe/Berlin:20260205T101500
DTEND;TZID=Europe/Berlin:20260205T110000
UID:26A61007-20260205T101500@VHSWILDESHAUSEN E. V.
SUMMARY:Sachkunde für Menschen mit Lernschwierigkeiten (26A61007) 
LOCATION:proTeam Himmelsthür gGmbH Werkstätten, Dr.-Klingenberg-Straße 83, Dr.-Klingenberg-Straße 83, 27793 Wildeshausen
END:VEVENT
BEGIN:VEVENT
DTSTAMP:20260423T183344
DTSTART;TZID=Europe/Berlin:20260212T101500
DTEND;TZID=Europe/Berlin:20260212T110000
UID:26A61007-20260212T101500@VHSWILDESHAUSEN E. V.
SUMMARY:Sachkunde für Menschen mit Lernschwierigkeiten (26A61007) 
LOCATION:proTeam Himmelsthür gGmbH Werkstätten, Dr.-Klingenberg-Straße 83, Dr.-Klingenberg-Straße 83, 27793 Wildeshausen
END:VEVENT
BEGIN:VEVENT
DTSTAMP:20260423T183344
DTSTART;TZID=Europe/Berlin:20260219T101500
DTEND;TZID=Europe/Berlin:20260219T110000
UID:26A61007-20260219T101500@VHSWILDESHAUSEN E. V.
SUMMARY:Sachkunde für Menschen mit Lernschwierigkeiten (26A61007) 
LOCATION:proTeam Himmelsthür gGmbH Werkstätten, Dr.-Klingenberg-Straße 83, Dr.-Klingenberg-Straße 83, 27793 Wildeshausen
END:VEVENT
BEGIN:VEVENT
DTSTAMP:20260423T183344
DTSTART;TZID=Europe/Berlin:20260226T101500
DTEND;TZID=Europe/Berlin:20260226T110000
UID:26A61007-20260226T101500@VHSWILDESHAUSEN E. V.
SUMMARY:Sachkunde für Menschen mit Lernschwierigkeiten (26A61007) 
LOCATION:proTeam Himmelsthür gGmbH Werkstätten, Dr.-Klingenberg-Straße 83, Dr.-Klingenberg-Straße 83, 27793 Wildeshausen
END:VEVENT
BEGIN:VEVENT
DTSTAMP:20260423T183344
DTSTART;TZID=Europe/Berlin:20260305T101500
DTEND;TZID=Europe/Berlin:20260305T110000
UID:26A61007-20260305T101500@VHSWILDESHAUSEN E. V.
SUMMARY:Sachkunde für Menschen mit Lernschwierigkeiten (26A61007) 
LOCATION:proTeam Himmelsthür gGmbH Werkstätten, Dr.-Klingenberg-Straße 83, Dr.-Klingenberg-Straße 83, 27793 Wildeshausen
END:VEVENT
BEGIN:VEVENT
DTSTAMP:20260423T183344
DTSTART;TZID=Europe/Berlin:20260312T101500
DTEND;TZID=Europe/Berlin:20260312T110000
UID:26A61007-20260312T101500@VHSWILDESHAUSEN E. V.
SUMMARY:Sachkunde für Menschen mit Lernschwierigkeiten (26A61007) 
LOCATION:proTeam Himmelsthür gGmbH Werkstätten, Dr.-Klingenberg-Straße 83, Dr.-Klingenberg-Straße 83, 27793 Wildeshausen
END:VEVENT
BEGIN:VEVENT
DTSTAMP:20260423T183344
DTSTART;TZID=Europe/Berlin:20260319T101500
DTEND;TZID=Europe/Berlin:20260319T110000
UID:26A61007-20260319T101500@VHSWILDESHAUSEN E. V.
SUMMARY:Sachkunde für Menschen mit Lernschwierigkeiten (26A61007) 
LOCATION:proTeam Himmelsthür gGmbH Werkstätten, Dr.-Klingenberg-Straße 83, Dr.-Klingenberg-Straße 83, 27793 Wildeshausen
END:VEVENT
BEGIN:VEVENT
DTSTAMP:20260423T183344
DTSTART;TZID=Europe/Berlin:20260409T101500
DTEND;TZID=Europe/Berlin:20260409T110000
UID:26A61007-20260409T101500@VHSWILDESHAUSEN E. V.
SUMMARY:Sachkunde für Menschen mit Lernschwierigkeiten (26A61007) 
LOCATION:proTeam Himmelsthür gGmbH Werkstätten, Dr.-Klingenberg-Straße 83, Dr.-Klingenberg-Straße 83, 27793 Wildeshausen
END:VEVENT
BEGIN:VEVENT
DTSTAMP:20260423T183344
DTSTART;TZID=Europe/Berlin:20260416T101500
DTEND;TZID=Europe/Berlin:20260416T110000
UID:26A61007-20260416T101500@VHSWILDESHAUSEN E. V.
SUMMARY:Sachkunde für Menschen mit Lernschwierigkeiten (26A61007) 
LOCATION:proTeam Himmelsthür gGmbH Werkstätten, Dr.-Klingenberg-Straße 83, Dr.-Klingenberg-Straße 83, 27793 Wildeshausen
END:VEVENT
BEGIN:VEVENT
DTSTAMP:20260423T183344
DTSTART;TZID=Europe/Berlin:20260423T101500
DTEND;TZID=Europe/Berlin:20260423T110000
UID:26A61007-20260423T101500@VHSWILDESHAUSEN E. V.
SUMMARY:Sachkunde für Menschen mit Lernschwierigkeiten (26A61007) 
LOCATION:proTeam Himmelsthür gGmbH Werkstätten, Dr.-Klingenberg-Straße 83, Dr.-Klingenberg-Straße 83, 27793 Wildeshausen
END:VEVENT
BEGIN:VEVENT
DTSTAMP:20260423T183344
DTSTART;TZID=Europe/Berlin:20260430T101500
DTEND;TZID=Europe/Berlin:20260430T110000
UID:26A61007-20260430T101500@VHSWILDESHAUSEN E. V.
SUMMARY:Sachkunde für Menschen mit Lernschwierigkeiten (26A61007) 
LOCATION:proTeam Himmelsthür gGmbH Werkstätten, Dr.-Klingenberg-Straße 83, Dr.-Klingenberg-Straße 83, 27793 Wildeshausen
END:VEVENT
BEGIN:VEVENT
DTSTAMP:20260423T183344
DTSTART;TZID=Europe/Berlin:20260507T101500
DTEND;TZID=Europe/Berlin:20260507T110000
UID:26A61007-20260507T101500@VHSWILDESHAUSEN E. V.
SUMMARY:Sachkunde für Menschen mit Lernschwierigkeiten (26A61007) 
LOCATION:proTeam Himmelsthür gGmbH Werkstätten, Dr.-Klingenberg-Straße 83, Dr.-Klingenberg-Straße 83, 27793 Wildeshausen
END:VEVENT
BEGIN:VEVENT
DTSTAMP:20260423T183344
DTSTART;TZID=Europe/Berlin:20260521T101500
DTEND;TZID=Europe/Berlin:20260521T110000
UID:26A61007-20260521T101500@VHSWILDESHAUSEN E. V.
SUMMARY:Sachkunde für Menschen mit Lernschwierigkeiten (26A61007) 
LOCATION:proTeam Himmelsthür gGmbH Werkstätten, Dr.-Klingenberg-Straße 83, Dr.-Klingenberg-Straße 83, 27793 Wildeshausen
END:VEVENT
BEGIN:VEVENT
DTSTAMP:20260423T183344
DTSTART;TZID=Europe/Berlin:20260528T101500
DTEND;TZID=Europe/Berlin:20260528T110000
UID:26A61007-20260528T101500@VHSWILDESHAUSEN E. V.
SUMMARY:Sachkunde für Menschen mit Lernschwierigkeiten (26A61007) 
LOCATION:proTeam Himmelsthür gGmbH Werkstätten, Dr.-Klingenberg-Straße 83, Dr.-Klingenberg-Straße 83, 27793 Wildeshausen
END:VEVENT
BEGIN:VEVENT
DTSTAMP:20260423T183344
DTSTART;TZID=Europe/Berlin:20260604T101500
DTEND;TZID=Europe/Berlin:20260604T110000
UID:26A61007-20260604T101500@VHSWILDESHAUSEN E. V.
SUMMARY:Sachkunde für Menschen mit Lernschwierigkeiten (26A61007) 
LOCATION:proTeam Himmelsthür gGmbH Werkstätten, Dr.-Klingenberg-Straße 83, Dr.-Klingenberg-Straße 83, 27793 Wildeshausen
END:VEVENT
BEGIN:VEVENT
DTSTAMP:20260423T183344
DTSTART;TZID=Europe/Berlin:20260611T101500
DTEND;TZID=Europe/Berlin:20260611T110000
UID:26A61007-20260611T101500@VHSWILDESHAUSEN E. V.
SUMMARY:Sachkunde für Menschen mit Lernschwierigkeiten (26A61007) 
LOCATION:proTeam Himmelsthür gGmbH Werkstätten, Dr.-Klingenberg-Straße 83, Dr.-Klingenberg-Straße 83, 27793 Wildeshausen
END:VEVENT
BEGIN:VEVENT
DTSTAMP:20260423T183344
DTSTART;TZID=Europe/Berlin:20260618T101500
DTEND;TZID=Europe/Berlin:20260618T110000
UID:26A61007-20260618T101500@VHSWILDESHAUSEN E. V.
SUMMARY:Sachkunde für Menschen mit Lernschwierigkeiten (26A61007) 
LOCATION:proTeam Himmelsthür gGmbH Werkstätten, Dr.-Klingenberg-Straße 83, Dr.-Klingenberg-Straße 83, 27793 Wildeshausen
END:VEVENT
BEGIN:VEVENT
DTSTAMP:20260423T183344
DTSTART;TZID=Europe/Berlin:20260625T101500
DTEND;TZID=Europe/Berlin:20260625T110000
UID:26A61007-20260625T101500@VHSWILDESHAUSEN E. V.
SUMMARY:Sachkunde für Menschen mit Lernschwierigkeiten (26A61007) 
LOCATION:proTeam Himmelsthür gGmbH Werkstätten, Dr.-Klingenberg-Straße 83, Dr.-Klingenberg-Straße 83, 27793 Wildeshausen
END:VEVENT
END:VCALENDAR