BEGIN:VCALENDAR
VERSION:2.0
PRODID:https://www.kufer.de/kuferweb / DE
METHOD:PUBLISH
CALSCALE:GREGORIAN
X-WR-TIMEZONE:Europe/Berlin
BEGIN:VTIMEZONE
TZID:Europe/Berlin
X-LIC-LOCATION:Europe/Berlin
BEGIN:DAYLIGHT
TZOFFSETFROM:+0100
TZOFFSETTO:+0200
TZNAME:CEST
DTSTART:19700329T020000
RRULE:FREQ=YEARLY;INTERVAL=1;BYDAY=-1SU;BYMONTH=3
END:DAYLIGHT
BEGIN:STANDARD
TZOFFSETFROM:+0200
TZOFFSETTO:+0100
TZNAME:CET
DTSTART:19701025T030000
RRULE:FREQ=YEARLY;INTERVAL=1;BYDAY=-1SU;BYMONTH=10
END:STANDARD
END:VTIMEZONE
BEGIN:VEVENT
DTSTAMP:20260421T110741
DTSTART;TZID=Europe/Berlin:20260114T100000
DTEND;TZID=Europe/Berlin:20260114T104500
UID:26A61006-20260114T100000@VHSWILDESHAUSEN E. V.
SUMMARY:Sachkunde für Menschen mit Lernschwierigkeiten (26A61006) 
LOCATION:proTeam Himmelsthür gGmbH Werkstätten, Westring 15a, Westring 15a, 27793 Wildeshausen
END:VEVENT
BEGIN:VEVENT
DTSTAMP:20260421T110741
DTSTART;TZID=Europe/Berlin:20260121T100000
DTEND;TZID=Europe/Berlin:20260121T104500
UID:26A61006-20260121T100000@VHSWILDESHAUSEN E. V.
SUMMARY:Sachkunde für Menschen mit Lernschwierigkeiten (26A61006) 
LOCATION:proTeam Himmelsthür gGmbH Werkstätten, Westring 15a, Westring 15a, 27793 Wildeshausen
END:VEVENT
BEGIN:VEVENT
DTSTAMP:20260421T110741
DTSTART;TZID=Europe/Berlin:20260128T100000
DTEND;TZID=Europe/Berlin:20260128T104500
UID:26A61006-20260128T100000@VHSWILDESHAUSEN E. V.
SUMMARY:Sachkunde für Menschen mit Lernschwierigkeiten (26A61006) 
LOCATION:proTeam Himmelsthür gGmbH Werkstätten, Westring 15a, Westring 15a, 27793 Wildeshausen
END:VEVENT
BEGIN:VEVENT
DTSTAMP:20260421T110741
DTSTART;TZID=Europe/Berlin:20260204T100000
DTEND;TZID=Europe/Berlin:20260204T104500
UID:26A61006-20260204T100000@VHSWILDESHAUSEN E. V.
SUMMARY:Sachkunde für Menschen mit Lernschwierigkeiten (26A61006) 
LOCATION:proTeam Himmelsthür gGmbH Werkstätten, Westring 15a, Westring 15a, 27793 Wildeshausen
END:VEVENT
BEGIN:VEVENT
DTSTAMP:20260421T110741
DTSTART;TZID=Europe/Berlin:20260211T100000
DTEND;TZID=Europe/Berlin:20260211T104500
UID:26A61006-20260211T100000@VHSWILDESHAUSEN E. V.
SUMMARY:Sachkunde für Menschen mit Lernschwierigkeiten (26A61006) 
LOCATION:proTeam Himmelsthür gGmbH Werkstätten, Westring 15a, Westring 15a, 27793 Wildeshausen
END:VEVENT
BEGIN:VEVENT
DTSTAMP:20260421T110741
DTSTART;TZID=Europe/Berlin:20260218T100000
DTEND;TZID=Europe/Berlin:20260218T104500
UID:26A61006-20260218T100000@VHSWILDESHAUSEN E. V.
SUMMARY:Sachkunde für Menschen mit Lernschwierigkeiten (26A61006) 
LOCATION:proTeam Himmelsthür gGmbH Werkstätten, Westring 15a, Westring 15a, 27793 Wildeshausen
END:VEVENT
BEGIN:VEVENT
DTSTAMP:20260421T110741
DTSTART;TZID=Europe/Berlin:20260225T100000
DTEND;TZID=Europe/Berlin:20260225T104500
UID:26A61006-20260225T100000@VHSWILDESHAUSEN E. V.
SUMMARY:Sachkunde für Menschen mit Lernschwierigkeiten (26A61006) 
LOCATION:proTeam Himmelsthür gGmbH Werkstätten, Westring 15a, Westring 15a, 27793 Wildeshausen
END:VEVENT
BEGIN:VEVENT
DTSTAMP:20260421T110741
DTSTART;TZID=Europe/Berlin:20260304T100000
DTEND;TZID=Europe/Berlin:20260304T104500
UID:26A61006-20260304T100000@VHSWILDESHAUSEN E. V.
SUMMARY:Sachkunde für Menschen mit Lernschwierigkeiten (26A61006) 
LOCATION:proTeam Himmelsthür gGmbH Werkstätten, Westring 15a, Westring 15a, 27793 Wildeshausen
END:VEVENT
BEGIN:VEVENT
DTSTAMP:20260421T110741
DTSTART;TZID=Europe/Berlin:20260311T100000
DTEND;TZID=Europe/Berlin:20260311T104500
UID:26A61006-20260311T100000@VHSWILDESHAUSEN E. V.
SUMMARY:Sachkunde für Menschen mit Lernschwierigkeiten (26A61006) 
LOCATION:proTeam Himmelsthür gGmbH Werkstätten, Westring 15a, Westring 15a, 27793 Wildeshausen
END:VEVENT
BEGIN:VEVENT
DTSTAMP:20260421T110741
DTSTART;TZID=Europe/Berlin:20260318T100000
DTEND;TZID=Europe/Berlin:20260318T104500
UID:26A61006-20260318T100000@VHSWILDESHAUSEN E. V.
SUMMARY:Sachkunde für Menschen mit Lernschwierigkeiten (26A61006) 
LOCATION:proTeam Himmelsthür gGmbH Werkstätten, Westring 15a, Westring 15a, 27793 Wildeshausen
END:VEVENT
BEGIN:VEVENT
DTSTAMP:20260421T110741
DTSTART;TZID=Europe/Berlin:20260408T100000
DTEND;TZID=Europe/Berlin:20260408T104500
UID:26A61006-20260408T100000@VHSWILDESHAUSEN E. V.
SUMMARY:Sachkunde für Menschen mit Lernschwierigkeiten (26A61006) 
LOCATION:proTeam Himmelsthür gGmbH Werkstätten, Westring 15a, Westring 15a, 27793 Wildeshausen
END:VEVENT
BEGIN:VEVENT
DTSTAMP:20260421T110741
DTSTART;TZID=Europe/Berlin:20260415T100000
DTEND;TZID=Europe/Berlin:20260415T104500
UID:26A61006-20260415T100000@VHSWILDESHAUSEN E. V.
SUMMARY:Sachkunde für Menschen mit Lernschwierigkeiten (26A61006) 
LOCATION:proTeam Himmelsthür gGmbH Werkstätten, Westring 15a, Westring 15a, 27793 Wildeshausen
END:VEVENT
BEGIN:VEVENT
DTSTAMP:20260421T110741
DTSTART;TZID=Europe/Berlin:20260422T100000
DTEND;TZID=Europe/Berlin:20260422T104500
UID:26A61006-20260422T100000@VHSWILDESHAUSEN E. V.
SUMMARY:Sachkunde für Menschen mit Lernschwierigkeiten (26A61006) 
LOCATION:proTeam Himmelsthür gGmbH Werkstätten, Westring 15a, Westring 15a, 27793 Wildeshausen
END:VEVENT
BEGIN:VEVENT
DTSTAMP:20260421T110741
DTSTART;TZID=Europe/Berlin:20260429T100000
DTEND;TZID=Europe/Berlin:20260429T104500
UID:26A61006-20260429T100000@VHSWILDESHAUSEN E. V.
SUMMARY:Sachkunde für Menschen mit Lernschwierigkeiten (26A61006) 
LOCATION:proTeam Himmelsthür gGmbH Werkstätten, Westring 15a, Westring 15a, 27793 Wildeshausen
END:VEVENT
BEGIN:VEVENT
DTSTAMP:20260421T110741
DTSTART;TZID=Europe/Berlin:20260506T100000
DTEND;TZID=Europe/Berlin:20260506T104500
UID:26A61006-20260506T100000@VHSWILDESHAUSEN E. V.
SUMMARY:Sachkunde für Menschen mit Lernschwierigkeiten (26A61006) 
LOCATION:proTeam Himmelsthür gGmbH Werkstätten, Westring 15a, Westring 15a, 27793 Wildeshausen
END:VEVENT
BEGIN:VEVENT
DTSTAMP:20260421T110741
DTSTART;TZID=Europe/Berlin:20260513T100000
DTEND;TZID=Europe/Berlin:20260513T104500
UID:26A61006-20260513T100000@VHSWILDESHAUSEN E. V.
SUMMARY:Sachkunde für Menschen mit Lernschwierigkeiten (26A61006) 
LOCATION:proTeam Himmelsthür gGmbH Werkstätten, Westring 15a, Westring 15a, 27793 Wildeshausen
END:VEVENT
BEGIN:VEVENT
DTSTAMP:20260421T110741
DTSTART;TZID=Europe/Berlin:20260520T100000
DTEND;TZID=Europe/Berlin:20260520T104500
UID:26A61006-20260520T100000@VHSWILDESHAUSEN E. V.
SUMMARY:Sachkunde für Menschen mit Lernschwierigkeiten (26A61006) 
LOCATION:proTeam Himmelsthür gGmbH Werkstätten, Westring 15a, Westring 15a, 27793 Wildeshausen
END:VEVENT
BEGIN:VEVENT
DTSTAMP:20260421T110741
DTSTART;TZID=Europe/Berlin:20260527T100000
DTEND;TZID=Europe/Berlin:20260527T104500
UID:26A61006-20260527T100000@VHSWILDESHAUSEN E. V.
SUMMARY:Sachkunde für Menschen mit Lernschwierigkeiten (26A61006) 
LOCATION:proTeam Himmelsthür gGmbH Werkstätten, Westring 15a, Westring 15a, 27793 Wildeshausen
END:VEVENT
BEGIN:VEVENT
DTSTAMP:20260421T110741
DTSTART;TZID=Europe/Berlin:20260603T100000
DTEND;TZID=Europe/Berlin:20260603T104500
UID:26A61006-20260603T100000@VHSWILDESHAUSEN E. V.
SUMMARY:Sachkunde für Menschen mit Lernschwierigkeiten (26A61006) 
LOCATION:proTeam Himmelsthür gGmbH Werkstätten, Westring 15a, Westring 15a, 27793 Wildeshausen
END:VEVENT
BEGIN:VEVENT
DTSTAMP:20260421T110741
DTSTART;TZID=Europe/Berlin:20260610T100000
DTEND;TZID=Europe/Berlin:20260610T104500
UID:26A61006-20260610T100000@VHSWILDESHAUSEN E. V.
SUMMARY:Sachkunde für Menschen mit Lernschwierigkeiten (26A61006) 
LOCATION:proTeam Himmelsthür gGmbH Werkstätten, Westring 15a, Westring 15a, 27793 Wildeshausen
END:VEVENT
BEGIN:VEVENT
DTSTAMP:20260421T110741
DTSTART;TZID=Europe/Berlin:20260617T100000
DTEND;TZID=Europe/Berlin:20260617T104500
UID:26A61006-20260617T100000@VHSWILDESHAUSEN E. V.
SUMMARY:Sachkunde für Menschen mit Lernschwierigkeiten (26A61006) 
LOCATION:proTeam Himmelsthür gGmbH Werkstätten, Westring 15a, Westring 15a, 27793 Wildeshausen
END:VEVENT
BEGIN:VEVENT
DTSTAMP:20260421T110741
DTSTART;TZID=Europe/Berlin:20260624T100000
DTEND;TZID=Europe/Berlin:20260624T104500
UID:26A61006-20260624T100000@VHSWILDESHAUSEN E. V.
SUMMARY:Sachkunde für Menschen mit Lernschwierigkeiten (26A61006) 
LOCATION:proTeam Himmelsthür gGmbH Werkstätten, Westring 15a, Westring 15a, 27793 Wildeshausen
END:VEVENT
END:VCALENDAR