BEGIN:VCALENDAR
VERSION:2.0
PRODID:https://www.kufer.de/kuferweb / DE
METHOD:PUBLISH
CALSCALE:GREGORIAN
X-WR-TIMEZONE:Europe/Berlin
BEGIN:VTIMEZONE
TZID:Europe/Berlin
X-LIC-LOCATION:Europe/Berlin
BEGIN:DAYLIGHT
TZOFFSETFROM:+0100
TZOFFSETTO:+0200
TZNAME:CEST
DTSTART:19700329T020000
RRULE:FREQ=YEARLY;INTERVAL=1;BYDAY=-1SU;BYMONTH=3
END:DAYLIGHT
BEGIN:STANDARD
TZOFFSETFROM:+0200
TZOFFSETTO:+0100
TZNAME:CET
DTSTART:19701025T030000
RRULE:FREQ=YEARLY;INTERVAL=1;BYDAY=-1SU;BYMONTH=10
END:STANDARD
END:VTIMEZONE
BEGIN:VEVENT
DTSTAMP:20260423T182548
DTSTART;TZID=Europe/Berlin:20260115T083000
DTEND;TZID=Europe/Berlin:20260115T091500
UID:26A61003-20260115T083000@VHSWILDESHAUSEN E. V.
SUMMARY:Lesen und Schreiben für Menschen mit Lernschwierigkeiten (26A61003) 
LOCATION:proTeam Himmelsthür gGmbH Werkstätten, Dr.-Klingenberg-Straße 83, Dr.-Klingenberg-Straße 83, 27793 Wildeshausen
END:VEVENT
BEGIN:VEVENT
DTSTAMP:20260423T182548
DTSTART;TZID=Europe/Berlin:20260122T083000
DTEND;TZID=Europe/Berlin:20260122T091500
UID:26A61003-20260122T083000@VHSWILDESHAUSEN E. V.
SUMMARY:Lesen und Schreiben für Menschen mit Lernschwierigkeiten (26A61003) 
LOCATION:proTeam Himmelsthür gGmbH Werkstätten, Dr.-Klingenberg-Straße 83, Dr.-Klingenberg-Straße 83, 27793 Wildeshausen
END:VEVENT
BEGIN:VEVENT
DTSTAMP:20260423T182548
DTSTART;TZID=Europe/Berlin:20260129T083000
DTEND;TZID=Europe/Berlin:20260129T091500
UID:26A61003-20260129T083000@VHSWILDESHAUSEN E. V.
SUMMARY:Lesen und Schreiben für Menschen mit Lernschwierigkeiten (26A61003) 
LOCATION:proTeam Himmelsthür gGmbH Werkstätten, Dr.-Klingenberg-Straße 83, Dr.-Klingenberg-Straße 83, 27793 Wildeshausen
END:VEVENT
BEGIN:VEVENT
DTSTAMP:20260423T182548
DTSTART;TZID=Europe/Berlin:20260205T083000
DTEND;TZID=Europe/Berlin:20260205T091500
UID:26A61003-20260205T083000@VHSWILDESHAUSEN E. V.
SUMMARY:Lesen und Schreiben für Menschen mit Lernschwierigkeiten (26A61003) 
LOCATION:proTeam Himmelsthür gGmbH Werkstätten, Dr.-Klingenberg-Straße 83, Dr.-Klingenberg-Straße 83, 27793 Wildeshausen
END:VEVENT
BEGIN:VEVENT
DTSTAMP:20260423T182548
DTSTART;TZID=Europe/Berlin:20260212T083000
DTEND;TZID=Europe/Berlin:20260212T091500
UID:26A61003-20260212T083000@VHSWILDESHAUSEN E. V.
SUMMARY:Lesen und Schreiben für Menschen mit Lernschwierigkeiten (26A61003) 
LOCATION:proTeam Himmelsthür gGmbH Werkstätten, Dr.-Klingenberg-Straße 83, Dr.-Klingenberg-Straße 83, 27793 Wildeshausen
END:VEVENT
BEGIN:VEVENT
DTSTAMP:20260423T182548
DTSTART;TZID=Europe/Berlin:20260219T083000
DTEND;TZID=Europe/Berlin:20260219T091500
UID:26A61003-20260219T083000@VHSWILDESHAUSEN E. V.
SUMMARY:Lesen und Schreiben für Menschen mit Lernschwierigkeiten (26A61003) 
LOCATION:proTeam Himmelsthür gGmbH Werkstätten, Dr.-Klingenberg-Straße 83, Dr.-Klingenberg-Straße 83, 27793 Wildeshausen
END:VEVENT
BEGIN:VEVENT
DTSTAMP:20260423T182548
DTSTART;TZID=Europe/Berlin:20260226T083000
DTEND;TZID=Europe/Berlin:20260226T091500
UID:26A61003-20260226T083000@VHSWILDESHAUSEN E. V.
SUMMARY:Lesen und Schreiben für Menschen mit Lernschwierigkeiten (26A61003) 
LOCATION:proTeam Himmelsthür gGmbH Werkstätten, Dr.-Klingenberg-Straße 83, Dr.-Klingenberg-Straße 83, 27793 Wildeshausen
END:VEVENT
BEGIN:VEVENT
DTSTAMP:20260423T182548
DTSTART;TZID=Europe/Berlin:20260305T083000
DTEND;TZID=Europe/Berlin:20260305T091500
UID:26A61003-20260305T083000@VHSWILDESHAUSEN E. V.
SUMMARY:Lesen und Schreiben für Menschen mit Lernschwierigkeiten (26A61003) 
LOCATION:proTeam Himmelsthür gGmbH Werkstätten, Dr.-Klingenberg-Straße 83, Dr.-Klingenberg-Straße 83, 27793 Wildeshausen
END:VEVENT
BEGIN:VEVENT
DTSTAMP:20260423T182548
DTSTART;TZID=Europe/Berlin:20260312T083000
DTEND;TZID=Europe/Berlin:20260312T091500
UID:26A61003-20260312T083000@VHSWILDESHAUSEN E. V.
SUMMARY:Lesen und Schreiben für Menschen mit Lernschwierigkeiten (26A61003) 
LOCATION:proTeam Himmelsthür gGmbH Werkstätten, Dr.-Klingenberg-Straße 83, Dr.-Klingenberg-Straße 83, 27793 Wildeshausen
END:VEVENT
BEGIN:VEVENT
DTSTAMP:20260423T182548
DTSTART;TZID=Europe/Berlin:20260319T083000
DTEND;TZID=Europe/Berlin:20260319T091500
UID:26A61003-20260319T083000@VHSWILDESHAUSEN E. V.
SUMMARY:Lesen und Schreiben für Menschen mit Lernschwierigkeiten (26A61003) 
LOCATION:proTeam Himmelsthür gGmbH Werkstätten, Dr.-Klingenberg-Straße 83, Dr.-Klingenberg-Straße 83, 27793 Wildeshausen
END:VEVENT
BEGIN:VEVENT
DTSTAMP:20260423T182548
DTSTART;TZID=Europe/Berlin:20260409T083000
DTEND;TZID=Europe/Berlin:20260409T091500
UID:26A61003-20260409T083000@VHSWILDESHAUSEN E. V.
SUMMARY:Lesen und Schreiben für Menschen mit Lernschwierigkeiten (26A61003) 
LOCATION:proTeam Himmelsthür gGmbH Werkstätten, Dr.-Klingenberg-Straße 83, Dr.-Klingenberg-Straße 83, 27793 Wildeshausen
END:VEVENT
BEGIN:VEVENT
DTSTAMP:20260423T182548
DTSTART;TZID=Europe/Berlin:20260416T083000
DTEND;TZID=Europe/Berlin:20260416T091500
UID:26A61003-20260416T083000@VHSWILDESHAUSEN E. V.
SUMMARY:Lesen und Schreiben für Menschen mit Lernschwierigkeiten (26A61003) 
LOCATION:proTeam Himmelsthür gGmbH Werkstätten, Dr.-Klingenberg-Straße 83, Dr.-Klingenberg-Straße 83, 27793 Wildeshausen
END:VEVENT
BEGIN:VEVENT
DTSTAMP:20260423T182548
DTSTART;TZID=Europe/Berlin:20260423T083000
DTEND;TZID=Europe/Berlin:20260423T091500
UID:26A61003-20260423T083000@VHSWILDESHAUSEN E. V.
SUMMARY:Lesen und Schreiben für Menschen mit Lernschwierigkeiten (26A61003) 
LOCATION:proTeam Himmelsthür gGmbH Werkstätten, Dr.-Klingenberg-Straße 83, Dr.-Klingenberg-Straße 83, 27793 Wildeshausen
END:VEVENT
BEGIN:VEVENT
DTSTAMP:20260423T182548
DTSTART;TZID=Europe/Berlin:20260430T083000
DTEND;TZID=Europe/Berlin:20260430T091500
UID:26A61003-20260430T083000@VHSWILDESHAUSEN E. V.
SUMMARY:Lesen und Schreiben für Menschen mit Lernschwierigkeiten (26A61003) 
LOCATION:proTeam Himmelsthür gGmbH Werkstätten, Dr.-Klingenberg-Straße 83, Dr.-Klingenberg-Straße 83, 27793 Wildeshausen
END:VEVENT
BEGIN:VEVENT
DTSTAMP:20260423T182548
DTSTART;TZID=Europe/Berlin:20260507T083000
DTEND;TZID=Europe/Berlin:20260507T091500
UID:26A61003-20260507T083000@VHSWILDESHAUSEN E. V.
SUMMARY:Lesen und Schreiben für Menschen mit Lernschwierigkeiten (26A61003) 
LOCATION:proTeam Himmelsthür gGmbH Werkstätten, Dr.-Klingenberg-Straße 83, Dr.-Klingenberg-Straße 83, 27793 Wildeshausen
END:VEVENT
BEGIN:VEVENT
DTSTAMP:20260423T182548
DTSTART;TZID=Europe/Berlin:20260521T083000
DTEND;TZID=Europe/Berlin:20260521T091500
UID:26A61003-20260521T083000@VHSWILDESHAUSEN E. V.
SUMMARY:Lesen und Schreiben für Menschen mit Lernschwierigkeiten (26A61003) 
LOCATION:proTeam Himmelsthür gGmbH Werkstätten, Dr.-Klingenberg-Straße 83, Dr.-Klingenberg-Straße 83, 27793 Wildeshausen
END:VEVENT
BEGIN:VEVENT
DTSTAMP:20260423T182548
DTSTART;TZID=Europe/Berlin:20260528T083000
DTEND;TZID=Europe/Berlin:20260528T091500
UID:26A61003-20260528T083000@VHSWILDESHAUSEN E. V.
SUMMARY:Lesen und Schreiben für Menschen mit Lernschwierigkeiten (26A61003) 
LOCATION:proTeam Himmelsthür gGmbH Werkstätten, Dr.-Klingenberg-Straße 83, Dr.-Klingenberg-Straße 83, 27793 Wildeshausen
END:VEVENT
BEGIN:VEVENT
DTSTAMP:20260423T182548
DTSTART;TZID=Europe/Berlin:20260604T083000
DTEND;TZID=Europe/Berlin:20260604T091500
UID:26A61003-20260604T083000@VHSWILDESHAUSEN E. V.
SUMMARY:Lesen und Schreiben für Menschen mit Lernschwierigkeiten (26A61003) 
LOCATION:proTeam Himmelsthür gGmbH Werkstätten, Dr.-Klingenberg-Straße 83, Dr.-Klingenberg-Straße 83, 27793 Wildeshausen
END:VEVENT
BEGIN:VEVENT
DTSTAMP:20260423T182548
DTSTART;TZID=Europe/Berlin:20260611T083000
DTEND;TZID=Europe/Berlin:20260611T091500
UID:26A61003-20260611T083000@VHSWILDESHAUSEN E. V.
SUMMARY:Lesen und Schreiben für Menschen mit Lernschwierigkeiten (26A61003) 
LOCATION:proTeam Himmelsthür gGmbH Werkstätten, Dr.-Klingenberg-Straße 83, Dr.-Klingenberg-Straße 83, 27793 Wildeshausen
END:VEVENT
BEGIN:VEVENT
DTSTAMP:20260423T182548
DTSTART;TZID=Europe/Berlin:20260618T083000
DTEND;TZID=Europe/Berlin:20260618T091500
UID:26A61003-20260618T083000@VHSWILDESHAUSEN E. V.
SUMMARY:Lesen und Schreiben für Menschen mit Lernschwierigkeiten (26A61003) 
LOCATION:proTeam Himmelsthür gGmbH Werkstätten, Dr.-Klingenberg-Straße 83, Dr.-Klingenberg-Straße 83, 27793 Wildeshausen
END:VEVENT
BEGIN:VEVENT
DTSTAMP:20260423T182548
DTSTART;TZID=Europe/Berlin:20260625T083000
DTEND;TZID=Europe/Berlin:20260625T091500
UID:26A61003-20260625T083000@VHSWILDESHAUSEN E. V.
SUMMARY:Lesen und Schreiben für Menschen mit Lernschwierigkeiten (26A61003) 
LOCATION:proTeam Himmelsthür gGmbH Werkstätten, Dr.-Klingenberg-Straße 83, Dr.-Klingenberg-Straße 83, 27793 Wildeshausen
END:VEVENT
END:VCALENDAR