BEGIN:VCALENDAR
VERSION:2.0
PRODID:https://www.kufer.de/kuferweb / DE
METHOD:PUBLISH
CALSCALE:GREGORIAN
X-WR-TIMEZONE:Europe/Berlin
BEGIN:VTIMEZONE
TZID:Europe/Berlin
X-LIC-LOCATION:Europe/Berlin
BEGIN:DAYLIGHT
TZOFFSETFROM:+0100
TZOFFSETTO:+0200
TZNAME:CEST
DTSTART:19700329T020000
RRULE:FREQ=YEARLY;INTERVAL=1;BYDAY=-1SU;BYMONTH=3
END:DAYLIGHT
BEGIN:STANDARD
TZOFFSETFROM:+0200
TZOFFSETTO:+0100
TZNAME:CET
DTSTART:19701025T030000
RRULE:FREQ=YEARLY;INTERVAL=1;BYDAY=-1SU;BYMONTH=10
END:STANDARD
END:VTIMEZONE
BEGIN:VEVENT
DTSTAMP:20260421T101411
DTSTART;TZID=Europe/Berlin:20260114T081500
DTEND;TZID=Europe/Berlin:20260114T090000
UID:26A61002-20260114T081500@VHSWILDESHAUSEN E. V.
SUMMARY:Lesen und Schreiben für Menschen mit Lernschwierigkeiten (26A61002) 
LOCATION:proTeam Himmelsthür gGmbH Werkstätten, Westring 15a, Westring 15a, 27793 Wildeshausen
END:VEVENT
BEGIN:VEVENT
DTSTAMP:20260421T101411
DTSTART;TZID=Europe/Berlin:20260121T081500
DTEND;TZID=Europe/Berlin:20260121T090000
UID:26A61002-20260121T081500@VHSWILDESHAUSEN E. V.
SUMMARY:Lesen und Schreiben für Menschen mit Lernschwierigkeiten (26A61002) 
LOCATION:proTeam Himmelsthür gGmbH Werkstätten, Westring 15a, Westring 15a, 27793 Wildeshausen
END:VEVENT
BEGIN:VEVENT
DTSTAMP:20260421T101411
DTSTART;TZID=Europe/Berlin:20260128T081500
DTEND;TZID=Europe/Berlin:20260128T090000
UID:26A61002-20260128T081500@VHSWILDESHAUSEN E. V.
SUMMARY:Lesen und Schreiben für Menschen mit Lernschwierigkeiten (26A61002) 
LOCATION:proTeam Himmelsthür gGmbH Werkstätten, Westring 15a, Westring 15a, 27793 Wildeshausen
END:VEVENT
BEGIN:VEVENT
DTSTAMP:20260421T101411
DTSTART;TZID=Europe/Berlin:20260204T081500
DTEND;TZID=Europe/Berlin:20260204T090000
UID:26A61002-20260204T081500@VHSWILDESHAUSEN E. V.
SUMMARY:Lesen und Schreiben für Menschen mit Lernschwierigkeiten (26A61002) 
LOCATION:proTeam Himmelsthür gGmbH Werkstätten, Westring 15a, Westring 15a, 27793 Wildeshausen
END:VEVENT
BEGIN:VEVENT
DTSTAMP:20260421T101411
DTSTART;TZID=Europe/Berlin:20260211T081500
DTEND;TZID=Europe/Berlin:20260211T090000
UID:26A61002-20260211T081500@VHSWILDESHAUSEN E. V.
SUMMARY:Lesen und Schreiben für Menschen mit Lernschwierigkeiten (26A61002) 
LOCATION:proTeam Himmelsthür gGmbH Werkstätten, Westring 15a, Westring 15a, 27793 Wildeshausen
END:VEVENT
BEGIN:VEVENT
DTSTAMP:20260421T101411
DTSTART;TZID=Europe/Berlin:20260218T081500
DTEND;TZID=Europe/Berlin:20260218T090000
UID:26A61002-20260218T081500@VHSWILDESHAUSEN E. V.
SUMMARY:Lesen und Schreiben für Menschen mit Lernschwierigkeiten (26A61002) 
LOCATION:proTeam Himmelsthür gGmbH Werkstätten, Westring 15a, Westring 15a, 27793 Wildeshausen
END:VEVENT
BEGIN:VEVENT
DTSTAMP:20260421T101411
DTSTART;TZID=Europe/Berlin:20260225T081500
DTEND;TZID=Europe/Berlin:20260225T090000
UID:26A61002-20260225T081500@VHSWILDESHAUSEN E. V.
SUMMARY:Lesen und Schreiben für Menschen mit Lernschwierigkeiten (26A61002) 
LOCATION:proTeam Himmelsthür gGmbH Werkstätten, Westring 15a, Westring 15a, 27793 Wildeshausen
END:VEVENT
BEGIN:VEVENT
DTSTAMP:20260421T101411
DTSTART;TZID=Europe/Berlin:20260304T081500
DTEND;TZID=Europe/Berlin:20260304T090000
UID:26A61002-20260304T081500@VHSWILDESHAUSEN E. V.
SUMMARY:Lesen und Schreiben für Menschen mit Lernschwierigkeiten (26A61002) 
LOCATION:proTeam Himmelsthür gGmbH Werkstätten, Westring 15a, Westring 15a, 27793 Wildeshausen
END:VEVENT
BEGIN:VEVENT
DTSTAMP:20260421T101411
DTSTART;TZID=Europe/Berlin:20260311T081500
DTEND;TZID=Europe/Berlin:20260311T090000
UID:26A61002-20260311T081500@VHSWILDESHAUSEN E. V.
SUMMARY:Lesen und Schreiben für Menschen mit Lernschwierigkeiten (26A61002) 
LOCATION:proTeam Himmelsthür gGmbH Werkstätten, Westring 15a, Westring 15a, 27793 Wildeshausen
END:VEVENT
BEGIN:VEVENT
DTSTAMP:20260421T101411
DTSTART;TZID=Europe/Berlin:20260318T081500
DTEND;TZID=Europe/Berlin:20260318T090000
UID:26A61002-20260318T081500@VHSWILDESHAUSEN E. V.
SUMMARY:Lesen und Schreiben für Menschen mit Lernschwierigkeiten (26A61002) 
LOCATION:proTeam Himmelsthür gGmbH Werkstätten, Westring 15a, Westring 15a, 27793 Wildeshausen
END:VEVENT
BEGIN:VEVENT
DTSTAMP:20260421T101411
DTSTART;TZID=Europe/Berlin:20260408T081500
DTEND;TZID=Europe/Berlin:20260408T090000
UID:26A61002-20260408T081500@VHSWILDESHAUSEN E. V.
SUMMARY:Lesen und Schreiben für Menschen mit Lernschwierigkeiten (26A61002) 
LOCATION:proTeam Himmelsthür gGmbH Werkstätten, Westring 15a, Westring 15a, 27793 Wildeshausen
END:VEVENT
BEGIN:VEVENT
DTSTAMP:20260421T101411
DTSTART;TZID=Europe/Berlin:20260415T081500
DTEND;TZID=Europe/Berlin:20260415T090000
UID:26A61002-20260415T081500@VHSWILDESHAUSEN E. V.
SUMMARY:Lesen und Schreiben für Menschen mit Lernschwierigkeiten (26A61002) 
LOCATION:proTeam Himmelsthür gGmbH Werkstätten, Westring 15a, Westring 15a, 27793 Wildeshausen
END:VEVENT
BEGIN:VEVENT
DTSTAMP:20260421T101411
DTSTART;TZID=Europe/Berlin:20260422T081500
DTEND;TZID=Europe/Berlin:20260422T090000
UID:26A61002-20260422T081500@VHSWILDESHAUSEN E. V.
SUMMARY:Lesen und Schreiben für Menschen mit Lernschwierigkeiten (26A61002) 
LOCATION:proTeam Himmelsthür gGmbH Werkstätten, Westring 15a, Westring 15a, 27793 Wildeshausen
END:VEVENT
BEGIN:VEVENT
DTSTAMP:20260421T101411
DTSTART;TZID=Europe/Berlin:20260429T081500
DTEND;TZID=Europe/Berlin:20260429T090000
UID:26A61002-20260429T081500@VHSWILDESHAUSEN E. V.
SUMMARY:Lesen und Schreiben für Menschen mit Lernschwierigkeiten (26A61002) 
LOCATION:proTeam Himmelsthür gGmbH Werkstätten, Westring 15a, Westring 15a, 27793 Wildeshausen
END:VEVENT
BEGIN:VEVENT
DTSTAMP:20260421T101411
DTSTART;TZID=Europe/Berlin:20260506T081500
DTEND;TZID=Europe/Berlin:20260506T090000
UID:26A61002-20260506T081500@VHSWILDESHAUSEN E. V.
SUMMARY:Lesen und Schreiben für Menschen mit Lernschwierigkeiten (26A61002) 
LOCATION:proTeam Himmelsthür gGmbH Werkstätten, Westring 15a, Westring 15a, 27793 Wildeshausen
END:VEVENT
BEGIN:VEVENT
DTSTAMP:20260421T101411
DTSTART;TZID=Europe/Berlin:20260513T081500
DTEND;TZID=Europe/Berlin:20260513T090000
UID:26A61002-20260513T081500@VHSWILDESHAUSEN E. V.
SUMMARY:Lesen und Schreiben für Menschen mit Lernschwierigkeiten (26A61002) 
LOCATION:proTeam Himmelsthür gGmbH Werkstätten, Westring 15a, Westring 15a, 27793 Wildeshausen
END:VEVENT
BEGIN:VEVENT
DTSTAMP:20260421T101411
DTSTART;TZID=Europe/Berlin:20260520T081500
DTEND;TZID=Europe/Berlin:20260520T090000
UID:26A61002-20260520T081500@VHSWILDESHAUSEN E. V.
SUMMARY:Lesen und Schreiben für Menschen mit Lernschwierigkeiten (26A61002) 
LOCATION:proTeam Himmelsthür gGmbH Werkstätten, Westring 15a, Westring 15a, 27793 Wildeshausen
END:VEVENT
BEGIN:VEVENT
DTSTAMP:20260421T101411
DTSTART;TZID=Europe/Berlin:20260527T081500
DTEND;TZID=Europe/Berlin:20260527T090000
UID:26A61002-20260527T081500@VHSWILDESHAUSEN E. V.
SUMMARY:Lesen und Schreiben für Menschen mit Lernschwierigkeiten (26A61002) 
LOCATION:proTeam Himmelsthür gGmbH Werkstätten, Westring 15a, Westring 15a, 27793 Wildeshausen
END:VEVENT
BEGIN:VEVENT
DTSTAMP:20260421T101411
DTSTART;TZID=Europe/Berlin:20260603T081500
DTEND;TZID=Europe/Berlin:20260603T090000
UID:26A61002-20260603T081500@VHSWILDESHAUSEN E. V.
SUMMARY:Lesen und Schreiben für Menschen mit Lernschwierigkeiten (26A61002) 
LOCATION:proTeam Himmelsthür gGmbH Werkstätten, Westring 15a, Westring 15a, 27793 Wildeshausen
END:VEVENT
BEGIN:VEVENT
DTSTAMP:20260421T101411
DTSTART;TZID=Europe/Berlin:20260610T081500
DTEND;TZID=Europe/Berlin:20260610T090000
UID:26A61002-20260610T081500@VHSWILDESHAUSEN E. V.
SUMMARY:Lesen und Schreiben für Menschen mit Lernschwierigkeiten (26A61002) 
LOCATION:proTeam Himmelsthür gGmbH Werkstätten, Westring 15a, Westring 15a, 27793 Wildeshausen
END:VEVENT
BEGIN:VEVENT
DTSTAMP:20260421T101411
DTSTART;TZID=Europe/Berlin:20260617T081500
DTEND;TZID=Europe/Berlin:20260617T090000
UID:26A61002-20260617T081500@VHSWILDESHAUSEN E. V.
SUMMARY:Lesen und Schreiben für Menschen mit Lernschwierigkeiten (26A61002) 
LOCATION:proTeam Himmelsthür gGmbH Werkstätten, Westring 15a, Westring 15a, 27793 Wildeshausen
END:VEVENT
BEGIN:VEVENT
DTSTAMP:20260421T101411
DTSTART;TZID=Europe/Berlin:20260624T081500
DTEND;TZID=Europe/Berlin:20260624T090000
UID:26A61002-20260624T081500@VHSWILDESHAUSEN E. V.
SUMMARY:Lesen und Schreiben für Menschen mit Lernschwierigkeiten (26A61002) 
LOCATION:proTeam Himmelsthür gGmbH Werkstätten, Westring 15a, Westring 15a, 27793 Wildeshausen
END:VEVENT
END:VCALENDAR