BEGIN:VCALENDAR
VERSION:2.0
PRODID:https://www.kufer.de/kuferweb / DE
METHOD:PUBLISH
CALSCALE:GREGORIAN
X-WR-TIMEZONE:Europe/Berlin
BEGIN:VTIMEZONE
TZID:Europe/Berlin
X-LIC-LOCATION:Europe/Berlin
BEGIN:DAYLIGHT
TZOFFSETFROM:+0100
TZOFFSETTO:+0200
TZNAME:CEST
DTSTART:19700329T020000
RRULE:FREQ=YEARLY;INTERVAL=1;BYDAY=-1SU;BYMONTH=3
END:DAYLIGHT
BEGIN:STANDARD
TZOFFSETFROM:+0200
TZOFFSETTO:+0100
TZNAME:CET
DTSTART:19701025T030000
RRULE:FREQ=YEARLY;INTERVAL=1;BYDAY=-1SU;BYMONTH=10
END:STANDARD
END:VTIMEZONE
BEGIN:VEVENT
DTSTAMP:20260420T054001
DTSTART;TZID=Europe/Berlin:20260728T183000
DTEND;TZID=Europe/Berlin:20260728T213000
UID:26A53018-20260728T183000@VHSWILDESHAUSEN E. V.
SUMMARY:Online-Kurs: Microsoft Outlook NEW Interne und externe Unternehmenskommunikation  (26A53018) 
LOCATION:Online
END:VEVENT
BEGIN:VEVENT
DTSTAMP:20260420T054001
DTSTART;TZID=Europe/Berlin:20260730T183000
DTEND;TZID=Europe/Berlin:20260730T213000
UID:26A53018-20260730T183000@VHSWILDESHAUSEN E. V.
SUMMARY:Online-Kurs: Microsoft Outlook NEW Interne und externe Unternehmenskommunikation  (26A53018) 
LOCATION:Online
END:VEVENT
END:VCALENDAR