BEGIN:VCALENDAR
VERSION:2.0
PRODID:https://www.kufer.de/kuferweb / DE
METHOD:PUBLISH
CALSCALE:GREGORIAN
X-WR-TIMEZONE:Europe/Berlin
BEGIN:VTIMEZONE
TZID:Europe/Berlin
X-LIC-LOCATION:Europe/Berlin
BEGIN:DAYLIGHT
TZOFFSETFROM:+0100
TZOFFSETTO:+0200
TZNAME:CEST
DTSTART:19700329T020000
RRULE:FREQ=YEARLY;INTERVAL=1;BYDAY=-1SU;BYMONTH=3
END:DAYLIGHT
BEGIN:STANDARD
TZOFFSETFROM:+0200
TZOFFSETTO:+0100
TZNAME:CET
DTSTART:19701025T030000
RRULE:FREQ=YEARLY;INTERVAL=1;BYDAY=-1SU;BYMONTH=10
END:STANDARD
END:VTIMEZONE
BEGIN:VEVENT
DTSTAMP:20260420T114558
DTSTART;TZID=Europe/Berlin:20260106T100000
DTEND;TZID=Europe/Berlin:20260106T113000
UID:26A43800-20260106T100000@VHSWILDESHAUSEN E. V.
SUMMARY:Deutsch im Alltag für Anfänger*innen (26A43800) 
LOCATION:Mehrgenerationenhaus, Seminarraum, Visbeker Straße 6, 27793 Wildeshausen
END:VEVENT
BEGIN:VEVENT
DTSTAMP:20260420T114558
DTSTART;TZID=Europe/Berlin:20260106T160000
DTEND;TZID=Europe/Berlin:20260106T173000
UID:26A43800-20260106T160000@VHSWILDESHAUSEN E. V.
SUMMARY:Deutsch im Alltag für Anfänger*innen (26A43800) 
LOCATION:Mehrgenerationenhaus, Seminarraum, Visbeker Straße 6, 27793 Wildeshausen
END:VEVENT
BEGIN:VEVENT
DTSTAMP:20260420T114558
DTSTART;TZID=Europe/Berlin:20260108T100000
DTEND;TZID=Europe/Berlin:20260108T113000
UID:26A43800-20260108T100000@VHSWILDESHAUSEN E. V.
SUMMARY:Deutsch im Alltag für Anfänger*innen (26A43800) 
LOCATION:Mehrgenerationenhaus, Seminarraum, Visbeker Straße 6, 27793 Wildeshausen
END:VEVENT
BEGIN:VEVENT
DTSTAMP:20260420T114558
DTSTART;TZID=Europe/Berlin:20260108T160000
DTEND;TZID=Europe/Berlin:20260108T173000
UID:26A43800-20260108T160000@VHSWILDESHAUSEN E. V.
SUMMARY:Deutsch im Alltag für Anfänger*innen (26A43800) 
LOCATION:Mehrgenerationenhaus, Seminarraum, Visbeker Straße 6, 27793 Wildeshausen
END:VEVENT
BEGIN:VEVENT
DTSTAMP:20260420T114558
DTSTART;TZID=Europe/Berlin:20260113T100000
DTEND;TZID=Europe/Berlin:20260113T113000
UID:26A43800-20260113T100000@VHSWILDESHAUSEN E. V.
SUMMARY:Deutsch im Alltag für Anfänger*innen (26A43800) 
LOCATION:Mehrgenerationenhaus, Seminarraum, Visbeker Straße 6, 27793 Wildeshausen
END:VEVENT
BEGIN:VEVENT
DTSTAMP:20260420T114558
DTSTART;TZID=Europe/Berlin:20260113T160000
DTEND;TZID=Europe/Berlin:20260113T173000
UID:26A43800-20260113T160000@VHSWILDESHAUSEN E. V.
SUMMARY:Deutsch im Alltag für Anfänger*innen (26A43800) 
LOCATION:Mehrgenerationenhaus, Seminarraum, Visbeker Straße 6, 27793 Wildeshausen
END:VEVENT
BEGIN:VEVENT
DTSTAMP:20260420T114558
DTSTART;TZID=Europe/Berlin:20260115T100000
DTEND;TZID=Europe/Berlin:20260115T113000
UID:26A43800-20260115T100000@VHSWILDESHAUSEN E. V.
SUMMARY:Deutsch im Alltag für Anfänger*innen (26A43800) 
LOCATION:Mehrgenerationenhaus, Seminarraum, Visbeker Straße 6, 27793 Wildeshausen
END:VEVENT
BEGIN:VEVENT
DTSTAMP:20260420T114558
DTSTART;TZID=Europe/Berlin:20260115T160000
DTEND;TZID=Europe/Berlin:20260115T173000
UID:26A43800-20260115T160000@VHSWILDESHAUSEN E. V.
SUMMARY:Deutsch im Alltag für Anfänger*innen (26A43800) 
LOCATION:Mehrgenerationenhaus, Seminarraum, Visbeker Straße 6, 27793 Wildeshausen
END:VEVENT
BEGIN:VEVENT
DTSTAMP:20260420T114558
DTSTART;TZID=Europe/Berlin:20260120T100000
DTEND;TZID=Europe/Berlin:20260120T113000
UID:26A43800-20260120T100000@VHSWILDESHAUSEN E. V.
SUMMARY:Deutsch im Alltag für Anfänger*innen (26A43800) 
LOCATION:Mehrgenerationenhaus, Seminarraum, Visbeker Straße 6, 27793 Wildeshausen
END:VEVENT
BEGIN:VEVENT
DTSTAMP:20260420T114558
DTSTART;TZID=Europe/Berlin:20260120T160000
DTEND;TZID=Europe/Berlin:20260120T173000
UID:26A43800-20260120T160000@VHSWILDESHAUSEN E. V.
SUMMARY:Deutsch im Alltag für Anfänger*innen (26A43800) 
LOCATION:Mehrgenerationenhaus, Seminarraum, Visbeker Straße 6, 27793 Wildeshausen
END:VEVENT
BEGIN:VEVENT
DTSTAMP:20260420T114558
DTSTART;TZID=Europe/Berlin:20260122T100000
DTEND;TZID=Europe/Berlin:20260122T113000
UID:26A43800-20260122T100000@VHSWILDESHAUSEN E. V.
SUMMARY:Deutsch im Alltag für Anfänger*innen (26A43800) 
LOCATION:Mehrgenerationenhaus, Seminarraum, Visbeker Straße 6, 27793 Wildeshausen
END:VEVENT
BEGIN:VEVENT
DTSTAMP:20260420T114558
DTSTART;TZID=Europe/Berlin:20260122T160000
DTEND;TZID=Europe/Berlin:20260122T173000
UID:26A43800-20260122T160000@VHSWILDESHAUSEN E. V.
SUMMARY:Deutsch im Alltag für Anfänger*innen (26A43800) 
LOCATION:Mehrgenerationenhaus, Seminarraum, Visbeker Straße 6, 27793 Wildeshausen
END:VEVENT
BEGIN:VEVENT
DTSTAMP:20260420T114558
DTSTART;TZID=Europe/Berlin:20260127T100000
DTEND;TZID=Europe/Berlin:20260127T113000
UID:26A43800-20260127T100000@VHSWILDESHAUSEN E. V.
SUMMARY:Deutsch im Alltag für Anfänger*innen (26A43800) 
LOCATION:Mehrgenerationenhaus, Seminarraum, Visbeker Straße 6, 27793 Wildeshausen
END:VEVENT
BEGIN:VEVENT
DTSTAMP:20260420T114558
DTSTART;TZID=Europe/Berlin:20260127T160000
DTEND;TZID=Europe/Berlin:20260127T173000
UID:26A43800-20260127T160000@VHSWILDESHAUSEN E. V.
SUMMARY:Deutsch im Alltag für Anfänger*innen (26A43800) 
LOCATION:Mehrgenerationenhaus, Seminarraum, Visbeker Straße 6, 27793 Wildeshausen
END:VEVENT
BEGIN:VEVENT
DTSTAMP:20260420T114558
DTSTART;TZID=Europe/Berlin:20260129T100000
DTEND;TZID=Europe/Berlin:20260129T113000
UID:26A43800-20260129T100000@VHSWILDESHAUSEN E. V.
SUMMARY:Deutsch im Alltag für Anfänger*innen (26A43800) 
LOCATION:Mehrgenerationenhaus, Seminarraum, Visbeker Straße 6, 27793 Wildeshausen
END:VEVENT
BEGIN:VEVENT
DTSTAMP:20260420T114558
DTSTART;TZID=Europe/Berlin:20260129T160000
DTEND;TZID=Europe/Berlin:20260129T173000
UID:26A43800-20260129T160000@VHSWILDESHAUSEN E. V.
SUMMARY:Deutsch im Alltag für Anfänger*innen (26A43800) 
LOCATION:Mehrgenerationenhaus, Seminarraum, Visbeker Straße 6, 27793 Wildeshausen
END:VEVENT
BEGIN:VEVENT
DTSTAMP:20260420T114558
DTSTART;TZID=Europe/Berlin:20260205T100000
DTEND;TZID=Europe/Berlin:20260205T113000
UID:26A43800-20260205T100000@VHSWILDESHAUSEN E. V.
SUMMARY:Deutsch im Alltag für Anfänger*innen (26A43800) 
LOCATION:Mehrgenerationenhaus, Seminarraum, Visbeker Straße 6, 27793 Wildeshausen
END:VEVENT
BEGIN:VEVENT
DTSTAMP:20260420T114558
DTSTART;TZID=Europe/Berlin:20260205T160000
DTEND;TZID=Europe/Berlin:20260205T173000
UID:26A43800-20260205T160000@VHSWILDESHAUSEN E. V.
SUMMARY:Deutsch im Alltag für Anfänger*innen (26A43800) 
LOCATION:Mehrgenerationenhaus, Seminarraum, Visbeker Straße 6, 27793 Wildeshausen
END:VEVENT
BEGIN:VEVENT
DTSTAMP:20260420T114558
DTSTART;TZID=Europe/Berlin:20260210T100000
DTEND;TZID=Europe/Berlin:20260210T113000
UID:26A43800-20260210T100000@VHSWILDESHAUSEN E. V.
SUMMARY:Deutsch im Alltag für Anfänger*innen (26A43800) 
LOCATION:Mehrgenerationenhaus, Seminarraum, Visbeker Straße 6, 27793 Wildeshausen
END:VEVENT
BEGIN:VEVENT
DTSTAMP:20260420T114558
DTSTART;TZID=Europe/Berlin:20260210T160000
DTEND;TZID=Europe/Berlin:20260210T173000
UID:26A43800-20260210T160000@VHSWILDESHAUSEN E. V.
SUMMARY:Deutsch im Alltag für Anfänger*innen (26A43800) 
LOCATION:Mehrgenerationenhaus, Seminarraum, Visbeker Straße 6, 27793 Wildeshausen
END:VEVENT
BEGIN:VEVENT
DTSTAMP:20260420T114558
DTSTART;TZID=Europe/Berlin:20260212T100000
DTEND;TZID=Europe/Berlin:20260212T113000
UID:26A43800-20260212T100000@VHSWILDESHAUSEN E. V.
SUMMARY:Deutsch im Alltag für Anfänger*innen (26A43800) 
LOCATION:Mehrgenerationenhaus, Seminarraum, Visbeker Straße 6, 27793 Wildeshausen
END:VEVENT
BEGIN:VEVENT
DTSTAMP:20260420T114558
DTSTART;TZID=Europe/Berlin:20260212T160000
DTEND;TZID=Europe/Berlin:20260212T173000
UID:26A43800-20260212T160000@VHSWILDESHAUSEN E. V.
SUMMARY:Deutsch im Alltag für Anfänger*innen (26A43800) 
LOCATION:Mehrgenerationenhaus, Seminarraum, Visbeker Straße 6, 27793 Wildeshausen
END:VEVENT
BEGIN:VEVENT
DTSTAMP:20260420T114558
DTSTART;TZID=Europe/Berlin:20260217T100000
DTEND;TZID=Europe/Berlin:20260217T113000
UID:26A43800-20260217T100000@VHSWILDESHAUSEN E. V.
SUMMARY:Deutsch im Alltag für Anfänger*innen (26A43800) 
LOCATION:Mehrgenerationenhaus, Seminarraum, Visbeker Straße 6, 27793 Wildeshausen
END:VEVENT
BEGIN:VEVENT
DTSTAMP:20260420T114558
DTSTART;TZID=Europe/Berlin:20260217T160000
DTEND;TZID=Europe/Berlin:20260217T173000
UID:26A43800-20260217T160000@VHSWILDESHAUSEN E. V.
SUMMARY:Deutsch im Alltag für Anfänger*innen (26A43800) 
LOCATION:Mehrgenerationenhaus, Seminarraum, Visbeker Straße 6, 27793 Wildeshausen
END:VEVENT
BEGIN:VEVENT
DTSTAMP:20260420T114558
DTSTART;TZID=Europe/Berlin:20260219T100000
DTEND;TZID=Europe/Berlin:20260219T113000
UID:26A43800-20260219T100000@VHSWILDESHAUSEN E. V.
SUMMARY:Deutsch im Alltag für Anfänger*innen (26A43800) 
LOCATION:Mehrgenerationenhaus, Seminarraum, Visbeker Straße 6, 27793 Wildeshausen
END:VEVENT
BEGIN:VEVENT
DTSTAMP:20260420T114558
DTSTART;TZID=Europe/Berlin:20260219T160000
DTEND;TZID=Europe/Berlin:20260219T173000
UID:26A43800-20260219T160000@VHSWILDESHAUSEN E. V.
SUMMARY:Deutsch im Alltag für Anfänger*innen (26A43800) 
LOCATION:Mehrgenerationenhaus, Seminarraum, Visbeker Straße 6, 27793 Wildeshausen
END:VEVENT
BEGIN:VEVENT
DTSTAMP:20260420T114558
DTSTART;TZID=Europe/Berlin:20260224T100000
DTEND;TZID=Europe/Berlin:20260224T113000
UID:26A43800-20260224T100000@VHSWILDESHAUSEN E. V.
SUMMARY:Deutsch im Alltag für Anfänger*innen (26A43800) 
LOCATION:Mehrgenerationenhaus, Seminarraum, Visbeker Straße 6, 27793 Wildeshausen
END:VEVENT
BEGIN:VEVENT
DTSTAMP:20260420T114558
DTSTART;TZID=Europe/Berlin:20260224T160000
DTEND;TZID=Europe/Berlin:20260224T173000
UID:26A43800-20260224T160000@VHSWILDESHAUSEN E. V.
SUMMARY:Deutsch im Alltag für Anfänger*innen (26A43800) 
LOCATION:Mehrgenerationenhaus, Seminarraum, Visbeker Straße 6, 27793 Wildeshausen
END:VEVENT
BEGIN:VEVENT
DTSTAMP:20260420T114558
DTSTART;TZID=Europe/Berlin:20260226T100000
DTEND;TZID=Europe/Berlin:20260226T113000
UID:26A43800-20260226T100000@VHSWILDESHAUSEN E. V.
SUMMARY:Deutsch im Alltag für Anfänger*innen (26A43800) 
LOCATION:Mehrgenerationenhaus, Seminarraum, Visbeker Straße 6, 27793 Wildeshausen
END:VEVENT
BEGIN:VEVENT
DTSTAMP:20260420T114558
DTSTART;TZID=Europe/Berlin:20260226T160000
DTEND;TZID=Europe/Berlin:20260226T173000
UID:26A43800-20260226T160000@VHSWILDESHAUSEN E. V.
SUMMARY:Deutsch im Alltag für Anfänger*innen (26A43800) 
LOCATION:Mehrgenerationenhaus, Seminarraum, Visbeker Straße 6, 27793 Wildeshausen
END:VEVENT
BEGIN:VEVENT
DTSTAMP:20260420T114558
DTSTART;TZID=Europe/Berlin:20260303T100000
DTEND;TZID=Europe/Berlin:20260303T113000
UID:26A43800-20260303T100000@VHSWILDESHAUSEN E. V.
SUMMARY:Deutsch im Alltag für Anfänger*innen (26A43800) 
LOCATION:Mehrgenerationenhaus, Seminarraum, Visbeker Straße 6, 27793 Wildeshausen
END:VEVENT
BEGIN:VEVENT
DTSTAMP:20260420T114558
DTSTART;TZID=Europe/Berlin:20260303T160000
DTEND;TZID=Europe/Berlin:20260303T173000
UID:26A43800-20260303T160000@VHSWILDESHAUSEN E. V.
SUMMARY:Deutsch im Alltag für Anfänger*innen (26A43800) 
LOCATION:Mehrgenerationenhaus, Seminarraum, Visbeker Straße 6, 27793 Wildeshausen
END:VEVENT
BEGIN:VEVENT
DTSTAMP:20260420T114558
DTSTART;TZID=Europe/Berlin:20260305T100000
DTEND;TZID=Europe/Berlin:20260305T113000
UID:26A43800-20260305T100000@VHSWILDESHAUSEN E. V.
SUMMARY:Deutsch im Alltag für Anfänger*innen (26A43800) 
LOCATION:Mehrgenerationenhaus, Seminarraum, Visbeker Straße 6, 27793 Wildeshausen
END:VEVENT
BEGIN:VEVENT
DTSTAMP:20260420T114558
DTSTART;TZID=Europe/Berlin:20260305T160000
DTEND;TZID=Europe/Berlin:20260305T173000
UID:26A43800-20260305T160000@VHSWILDESHAUSEN E. V.
SUMMARY:Deutsch im Alltag für Anfänger*innen (26A43800) 
LOCATION:Mehrgenerationenhaus, Seminarraum, Visbeker Straße 6, 27793 Wildeshausen
END:VEVENT
BEGIN:VEVENT
DTSTAMP:20260420T114558
DTSTART;TZID=Europe/Berlin:20260310T100000
DTEND;TZID=Europe/Berlin:20260310T113000
UID:26A43800-20260310T100000@VHSWILDESHAUSEN E. V.
SUMMARY:Deutsch im Alltag für Anfänger*innen (26A43800) 
LOCATION:Mehrgenerationenhaus, Seminarraum, Visbeker Straße 6, 27793 Wildeshausen
END:VEVENT
BEGIN:VEVENT
DTSTAMP:20260420T114558
DTSTART;TZID=Europe/Berlin:20260310T160000
DTEND;TZID=Europe/Berlin:20260310T173000
UID:26A43800-20260310T160000@VHSWILDESHAUSEN E. V.
SUMMARY:Deutsch im Alltag für Anfänger*innen (26A43800) 
LOCATION:Mehrgenerationenhaus, Seminarraum, Visbeker Straße 6, 27793 Wildeshausen
END:VEVENT
BEGIN:VEVENT
DTSTAMP:20260420T114558
DTSTART;TZID=Europe/Berlin:20260312T100000
DTEND;TZID=Europe/Berlin:20260312T113000
UID:26A43800-20260312T100000@VHSWILDESHAUSEN E. V.
SUMMARY:Deutsch im Alltag für Anfänger*innen (26A43800) 
LOCATION:Mehrgenerationenhaus, Seminarraum, Visbeker Straße 6, 27793 Wildeshausen
END:VEVENT
BEGIN:VEVENT
DTSTAMP:20260420T114558
DTSTART;TZID=Europe/Berlin:20260312T160000
DTEND;TZID=Europe/Berlin:20260312T173000
UID:26A43800-20260312T160000@VHSWILDESHAUSEN E. V.
SUMMARY:Deutsch im Alltag für Anfänger*innen (26A43800) 
LOCATION:Mehrgenerationenhaus, Seminarraum, Visbeker Straße 6, 27793 Wildeshausen
END:VEVENT
BEGIN:VEVENT
DTSTAMP:20260420T114558
DTSTART;TZID=Europe/Berlin:20260317T100000
DTEND;TZID=Europe/Berlin:20260317T113000
UID:26A43800-20260317T100000@VHSWILDESHAUSEN E. V.
SUMMARY:Deutsch im Alltag für Anfänger*innen (26A43800) 
LOCATION:Mehrgenerationenhaus, Seminarraum, Visbeker Straße 6, 27793 Wildeshausen
END:VEVENT
BEGIN:VEVENT
DTSTAMP:20260420T114558
DTSTART;TZID=Europe/Berlin:20260317T160000
DTEND;TZID=Europe/Berlin:20260317T173000
UID:26A43800-20260317T160000@VHSWILDESHAUSEN E. V.
SUMMARY:Deutsch im Alltag für Anfänger*innen (26A43800) 
LOCATION:Mehrgenerationenhaus, Seminarraum, Visbeker Straße 6, 27793 Wildeshausen
END:VEVENT
BEGIN:VEVENT
DTSTAMP:20260420T114558
DTSTART;TZID=Europe/Berlin:20260319T100000
DTEND;TZID=Europe/Berlin:20260319T113000
UID:26A43800-20260319T100000@VHSWILDESHAUSEN E. V.
SUMMARY:Deutsch im Alltag für Anfänger*innen (26A43800) 
LOCATION:Mehrgenerationenhaus, Seminarraum, Visbeker Straße 6, 27793 Wildeshausen
END:VEVENT
BEGIN:VEVENT
DTSTAMP:20260420T114558
DTSTART;TZID=Europe/Berlin:20260319T160000
DTEND;TZID=Europe/Berlin:20260319T173000
UID:26A43800-20260319T160000@VHSWILDESHAUSEN E. V.
SUMMARY:Deutsch im Alltag für Anfänger*innen (26A43800) 
LOCATION:Mehrgenerationenhaus, Seminarraum, Visbeker Straße 6, 27793 Wildeshausen
END:VEVENT
BEGIN:VEVENT
DTSTAMP:20260420T114558
DTSTART;TZID=Europe/Berlin:20260409T100000
DTEND;TZID=Europe/Berlin:20260409T113000
UID:26A43800-20260409T100000@VHSWILDESHAUSEN E. V.
SUMMARY:Deutsch im Alltag für Anfänger*innen (26A43800) 
LOCATION:Mehrgenerationenhaus, Seminarraum, Visbeker Straße 6, 27793 Wildeshausen
END:VEVENT
BEGIN:VEVENT
DTSTAMP:20260420T114558
DTSTART;TZID=Europe/Berlin:20260409T160000
DTEND;TZID=Europe/Berlin:20260409T173000
UID:26A43800-20260409T160000@VHSWILDESHAUSEN E. V.
SUMMARY:Deutsch im Alltag für Anfänger*innen (26A43800) 
LOCATION:Mehrgenerationenhaus, Seminarraum, Visbeker Straße 6, 27793 Wildeshausen
END:VEVENT
BEGIN:VEVENT
DTSTAMP:20260420T114558
DTSTART;TZID=Europe/Berlin:20260414T100000
DTEND;TZID=Europe/Berlin:20260414T113000
UID:26A43800-20260414T100000@VHSWILDESHAUSEN E. V.
SUMMARY:Deutsch im Alltag für Anfänger*innen (26A43800) 
LOCATION:Mehrgenerationenhaus, Seminarraum, Visbeker Straße 6, 27793 Wildeshausen
END:VEVENT
BEGIN:VEVENT
DTSTAMP:20260420T114558
DTSTART;TZID=Europe/Berlin:20260414T160000
DTEND;TZID=Europe/Berlin:20260414T173000
UID:26A43800-20260414T160000@VHSWILDESHAUSEN E. V.
SUMMARY:Deutsch im Alltag für Anfänger*innen (26A43800) 
LOCATION:Mehrgenerationenhaus, Seminarraum, Visbeker Straße 6, 27793 Wildeshausen
END:VEVENT
BEGIN:VEVENT
DTSTAMP:20260420T114558
DTSTART;TZID=Europe/Berlin:20260416T100000
DTEND;TZID=Europe/Berlin:20260416T113000
UID:26A43800-20260416T100000@VHSWILDESHAUSEN E. V.
SUMMARY:Deutsch im Alltag für Anfänger*innen (26A43800) 
LOCATION:Mehrgenerationenhaus, Seminarraum, Visbeker Straße 6, 27793 Wildeshausen
END:VEVENT
BEGIN:VEVENT
DTSTAMP:20260420T114558
DTSTART;TZID=Europe/Berlin:20260416T160000
DTEND;TZID=Europe/Berlin:20260416T173000
UID:26A43800-20260416T160000@VHSWILDESHAUSEN E. V.
SUMMARY:Deutsch im Alltag für Anfänger*innen (26A43800) 
LOCATION:Mehrgenerationenhaus, Seminarraum, Visbeker Straße 6, 27793 Wildeshausen
END:VEVENT
BEGIN:VEVENT
DTSTAMP:20260420T114558
DTSTART;TZID=Europe/Berlin:20260421T100000
DTEND;TZID=Europe/Berlin:20260421T113000
UID:26A43800-20260421T100000@VHSWILDESHAUSEN E. V.
SUMMARY:Deutsch im Alltag für Anfänger*innen (26A43800) 
LOCATION:Mehrgenerationenhaus, Seminarraum, Visbeker Straße 6, 27793 Wildeshausen
END:VEVENT
BEGIN:VEVENT
DTSTAMP:20260420T114558
DTSTART;TZID=Europe/Berlin:20260421T160000
DTEND;TZID=Europe/Berlin:20260421T173000
UID:26A43800-20260421T160000@VHSWILDESHAUSEN E. V.
SUMMARY:Deutsch im Alltag für Anfänger*innen (26A43800) 
LOCATION:Mehrgenerationenhaus, Seminarraum, Visbeker Straße 6, 27793 Wildeshausen
END:VEVENT
BEGIN:VEVENT
DTSTAMP:20260420T114558
DTSTART;TZID=Europe/Berlin:20260423T100000
DTEND;TZID=Europe/Berlin:20260423T113000
UID:26A43800-20260423T100000@VHSWILDESHAUSEN E. V.
SUMMARY:Deutsch im Alltag für Anfänger*innen (26A43800) 
LOCATION:Mehrgenerationenhaus, Seminarraum, Visbeker Straße 6, 27793 Wildeshausen
END:VEVENT
BEGIN:VEVENT
DTSTAMP:20260420T114558
DTSTART;TZID=Europe/Berlin:20260423T160000
DTEND;TZID=Europe/Berlin:20260423T173000
UID:26A43800-20260423T160000@VHSWILDESHAUSEN E. V.
SUMMARY:Deutsch im Alltag für Anfänger*innen (26A43800) 
LOCATION:Mehrgenerationenhaus, Seminarraum, Visbeker Straße 6, 27793 Wildeshausen
END:VEVENT
BEGIN:VEVENT
DTSTAMP:20260420T114558
DTSTART;TZID=Europe/Berlin:20260428T100000
DTEND;TZID=Europe/Berlin:20260428T113000
UID:26A43800-20260428T100000@VHSWILDESHAUSEN E. V.
SUMMARY:Deutsch im Alltag für Anfänger*innen (26A43800) 
LOCATION:Mehrgenerationenhaus, Seminarraum, Visbeker Straße 6, 27793 Wildeshausen
END:VEVENT
BEGIN:VEVENT
DTSTAMP:20260420T114558
DTSTART;TZID=Europe/Berlin:20260428T160000
DTEND;TZID=Europe/Berlin:20260428T173000
UID:26A43800-20260428T160000@VHSWILDESHAUSEN E. V.
SUMMARY:Deutsch im Alltag für Anfänger*innen (26A43800) 
LOCATION:Mehrgenerationenhaus, Seminarraum, Visbeker Straße 6, 27793 Wildeshausen
END:VEVENT
BEGIN:VEVENT
DTSTAMP:20260420T114558
DTSTART;TZID=Europe/Berlin:20260430T100000
DTEND;TZID=Europe/Berlin:20260430T113000
UID:26A43800-20260430T100000@VHSWILDESHAUSEN E. V.
SUMMARY:Deutsch im Alltag für Anfänger*innen (26A43800) 
LOCATION:Mehrgenerationenhaus, Seminarraum, Visbeker Straße 6, 27793 Wildeshausen
END:VEVENT
BEGIN:VEVENT
DTSTAMP:20260420T114558
DTSTART;TZID=Europe/Berlin:20260430T160000
DTEND;TZID=Europe/Berlin:20260430T173000
UID:26A43800-20260430T160000@VHSWILDESHAUSEN E. V.
SUMMARY:Deutsch im Alltag für Anfänger*innen (26A43800) 
LOCATION:Mehrgenerationenhaus, Seminarraum, Visbeker Straße 6, 27793 Wildeshausen
END:VEVENT
BEGIN:VEVENT
DTSTAMP:20260420T114558
DTSTART;TZID=Europe/Berlin:20260505T100000
DTEND;TZID=Europe/Berlin:20260505T113000
UID:26A43800-20260505T100000@VHSWILDESHAUSEN E. V.
SUMMARY:Deutsch im Alltag für Anfänger*innen (26A43800) 
LOCATION:Mehrgenerationenhaus, Seminarraum, Visbeker Straße 6, 27793 Wildeshausen
END:VEVENT
BEGIN:VEVENT
DTSTAMP:20260420T114558
DTSTART;TZID=Europe/Berlin:20260505T160000
DTEND;TZID=Europe/Berlin:20260505T173000
UID:26A43800-20260505T160000@VHSWILDESHAUSEN E. V.
SUMMARY:Deutsch im Alltag für Anfänger*innen (26A43800) 
LOCATION:Mehrgenerationenhaus, Seminarraum, Visbeker Straße 6, 27793 Wildeshausen
END:VEVENT
BEGIN:VEVENT
DTSTAMP:20260420T114558
DTSTART;TZID=Europe/Berlin:20260507T100000
DTEND;TZID=Europe/Berlin:20260507T113000
UID:26A43800-20260507T100000@VHSWILDESHAUSEN E. V.
SUMMARY:Deutsch im Alltag für Anfänger*innen (26A43800) 
LOCATION:Mehrgenerationenhaus, Seminarraum, Visbeker Straße 6, 27793 Wildeshausen
END:VEVENT
BEGIN:VEVENT
DTSTAMP:20260420T114558
DTSTART;TZID=Europe/Berlin:20260507T160000
DTEND;TZID=Europe/Berlin:20260507T173000
UID:26A43800-20260507T160000@VHSWILDESHAUSEN E. V.
SUMMARY:Deutsch im Alltag für Anfänger*innen (26A43800) 
LOCATION:Mehrgenerationenhaus, Seminarraum, Visbeker Straße 6, 27793 Wildeshausen
END:VEVENT
BEGIN:VEVENT
DTSTAMP:20260420T114558
DTSTART;TZID=Europe/Berlin:20260512T100000
DTEND;TZID=Europe/Berlin:20260512T113000
UID:26A43800-20260512T100000@VHSWILDESHAUSEN E. V.
SUMMARY:Deutsch im Alltag für Anfänger*innen (26A43800) 
LOCATION:Mehrgenerationenhaus, Seminarraum, Visbeker Straße 6, 27793 Wildeshausen
END:VEVENT
BEGIN:VEVENT
DTSTAMP:20260420T114558
DTSTART;TZID=Europe/Berlin:20260512T160000
DTEND;TZID=Europe/Berlin:20260512T173000
UID:26A43800-20260512T160000@VHSWILDESHAUSEN E. V.
SUMMARY:Deutsch im Alltag für Anfänger*innen (26A43800) 
LOCATION:Mehrgenerationenhaus, Seminarraum, Visbeker Straße 6, 27793 Wildeshausen
END:VEVENT
BEGIN:VEVENT
DTSTAMP:20260420T114558
DTSTART;TZID=Europe/Berlin:20260519T100000
DTEND;TZID=Europe/Berlin:20260519T113000
UID:26A43800-20260519T100000@VHSWILDESHAUSEN E. V.
SUMMARY:Deutsch im Alltag für Anfänger*innen (26A43800) 
LOCATION:Mehrgenerationenhaus, Seminarraum, Visbeker Straße 6, 27793 Wildeshausen
END:VEVENT
BEGIN:VEVENT
DTSTAMP:20260420T114558
DTSTART;TZID=Europe/Berlin:20260519T160000
DTEND;TZID=Europe/Berlin:20260519T173000
UID:26A43800-20260519T160000@VHSWILDESHAUSEN E. V.
SUMMARY:Deutsch im Alltag für Anfänger*innen (26A43800) 
LOCATION:Mehrgenerationenhaus, Seminarraum, Visbeker Straße 6, 27793 Wildeshausen
END:VEVENT
BEGIN:VEVENT
DTSTAMP:20260420T114558
DTSTART;TZID=Europe/Berlin:20260521T100000
DTEND;TZID=Europe/Berlin:20260521T113000
UID:26A43800-20260521T100000@VHSWILDESHAUSEN E. V.
SUMMARY:Deutsch im Alltag für Anfänger*innen (26A43800) 
LOCATION:Mehrgenerationenhaus, Seminarraum, Visbeker Straße 6, 27793 Wildeshausen
END:VEVENT
BEGIN:VEVENT
DTSTAMP:20260420T114558
DTSTART;TZID=Europe/Berlin:20260521T160000
DTEND;TZID=Europe/Berlin:20260521T173000
UID:26A43800-20260521T160000@VHSWILDESHAUSEN E. V.
SUMMARY:Deutsch im Alltag für Anfänger*innen (26A43800) 
LOCATION:Mehrgenerationenhaus, Seminarraum, Visbeker Straße 6, 27793 Wildeshausen
END:VEVENT
BEGIN:VEVENT
DTSTAMP:20260420T114558
DTSTART;TZID=Europe/Berlin:20260528T100000
DTEND;TZID=Europe/Berlin:20260528T113000
UID:26A43800-20260528T100000@VHSWILDESHAUSEN E. V.
SUMMARY:Deutsch im Alltag für Anfänger*innen (26A43800) 
LOCATION:Mehrgenerationenhaus, Seminarraum, Visbeker Straße 6, 27793 Wildeshausen
END:VEVENT
BEGIN:VEVENT
DTSTAMP:20260420T114558
DTSTART;TZID=Europe/Berlin:20260528T160000
DTEND;TZID=Europe/Berlin:20260528T173000
UID:26A43800-20260528T160000@VHSWILDESHAUSEN E. V.
SUMMARY:Deutsch im Alltag für Anfänger*innen (26A43800) 
LOCATION:Mehrgenerationenhaus, Seminarraum, Visbeker Straße 6, 27793 Wildeshausen
END:VEVENT
BEGIN:VEVENT
DTSTAMP:20260420T114558
DTSTART;TZID=Europe/Berlin:20260602T100000
DTEND;TZID=Europe/Berlin:20260602T113000
UID:26A43800-20260602T100000@VHSWILDESHAUSEN E. V.
SUMMARY:Deutsch im Alltag für Anfänger*innen (26A43800) 
LOCATION:Mehrgenerationenhaus, Seminarraum, Visbeker Straße 6, 27793 Wildeshausen
END:VEVENT
BEGIN:VEVENT
DTSTAMP:20260420T114558
DTSTART;TZID=Europe/Berlin:20260602T160000
DTEND;TZID=Europe/Berlin:20260602T173000
UID:26A43800-20260602T160000@VHSWILDESHAUSEN E. V.
SUMMARY:Deutsch im Alltag für Anfänger*innen (26A43800) 
LOCATION:Mehrgenerationenhaus, Seminarraum, Visbeker Straße 6, 27793 Wildeshausen
END:VEVENT
BEGIN:VEVENT
DTSTAMP:20260420T114558
DTSTART;TZID=Europe/Berlin:20260604T100000
DTEND;TZID=Europe/Berlin:20260604T113000
UID:26A43800-20260604T100000@VHSWILDESHAUSEN E. V.
SUMMARY:Deutsch im Alltag für Anfänger*innen (26A43800) 
LOCATION:Mehrgenerationenhaus, Seminarraum, Visbeker Straße 6, 27793 Wildeshausen
END:VEVENT
BEGIN:VEVENT
DTSTAMP:20260420T114558
DTSTART;TZID=Europe/Berlin:20260604T160000
DTEND;TZID=Europe/Berlin:20260604T173000
UID:26A43800-20260604T160000@VHSWILDESHAUSEN E. V.
SUMMARY:Deutsch im Alltag für Anfänger*innen (26A43800) 
LOCATION:Mehrgenerationenhaus, Seminarraum, Visbeker Straße 6, 27793 Wildeshausen
END:VEVENT
BEGIN:VEVENT
DTSTAMP:20260420T114558
DTSTART;TZID=Europe/Berlin:20260609T100000
DTEND;TZID=Europe/Berlin:20260609T113000
UID:26A43800-20260609T100000@VHSWILDESHAUSEN E. V.
SUMMARY:Deutsch im Alltag für Anfänger*innen (26A43800) 
LOCATION:Mehrgenerationenhaus, Seminarraum, Visbeker Straße 6, 27793 Wildeshausen
END:VEVENT
BEGIN:VEVENT
DTSTAMP:20260420T114558
DTSTART;TZID=Europe/Berlin:20260609T160000
DTEND;TZID=Europe/Berlin:20260609T173000
UID:26A43800-20260609T160000@VHSWILDESHAUSEN E. V.
SUMMARY:Deutsch im Alltag für Anfänger*innen (26A43800) 
LOCATION:Mehrgenerationenhaus, Seminarraum, Visbeker Straße 6, 27793 Wildeshausen
END:VEVENT
BEGIN:VEVENT
DTSTAMP:20260420T114558
DTSTART;TZID=Europe/Berlin:20260611T100000
DTEND;TZID=Europe/Berlin:20260611T113000
UID:26A43800-20260611T100000@VHSWILDESHAUSEN E. V.
SUMMARY:Deutsch im Alltag für Anfänger*innen (26A43800) 
LOCATION:Mehrgenerationenhaus, Seminarraum, Visbeker Straße 6, 27793 Wildeshausen
END:VEVENT
BEGIN:VEVENT
DTSTAMP:20260420T114558
DTSTART;TZID=Europe/Berlin:20260611T160000
DTEND;TZID=Europe/Berlin:20260611T173000
UID:26A43800-20260611T160000@VHSWILDESHAUSEN E. V.
SUMMARY:Deutsch im Alltag für Anfänger*innen (26A43800) 
LOCATION:Mehrgenerationenhaus, Seminarraum, Visbeker Straße 6, 27793 Wildeshausen
END:VEVENT
BEGIN:VEVENT
DTSTAMP:20260420T114558
DTSTART;TZID=Europe/Berlin:20260616T100000
DTEND;TZID=Europe/Berlin:20260616T113000
UID:26A43800-20260616T100000@VHSWILDESHAUSEN E. V.
SUMMARY:Deutsch im Alltag für Anfänger*innen (26A43800) 
LOCATION:Mehrgenerationenhaus, Seminarraum, Visbeker Straße 6, 27793 Wildeshausen
END:VEVENT
BEGIN:VEVENT
DTSTAMP:20260420T114558
DTSTART;TZID=Europe/Berlin:20260616T160000
DTEND;TZID=Europe/Berlin:20260616T173000
UID:26A43800-20260616T160000@VHSWILDESHAUSEN E. V.
SUMMARY:Deutsch im Alltag für Anfänger*innen (26A43800) 
LOCATION:Mehrgenerationenhaus, Seminarraum, Visbeker Straße 6, 27793 Wildeshausen
END:VEVENT
BEGIN:VEVENT
DTSTAMP:20260420T114558
DTSTART;TZID=Europe/Berlin:20260618T100000
DTEND;TZID=Europe/Berlin:20260618T113000
UID:26A43800-20260618T100000@VHSWILDESHAUSEN E. V.
SUMMARY:Deutsch im Alltag für Anfänger*innen (26A43800) 
LOCATION:Mehrgenerationenhaus, Seminarraum, Visbeker Straße 6, 27793 Wildeshausen
END:VEVENT
BEGIN:VEVENT
DTSTAMP:20260420T114558
DTSTART;TZID=Europe/Berlin:20260618T160000
DTEND;TZID=Europe/Berlin:20260618T173000
UID:26A43800-20260618T160000@VHSWILDESHAUSEN E. V.
SUMMARY:Deutsch im Alltag für Anfänger*innen (26A43800) 
LOCATION:Mehrgenerationenhaus, Seminarraum, Visbeker Straße 6, 27793 Wildeshausen
END:VEVENT
BEGIN:VEVENT
DTSTAMP:20260420T114558
DTSTART;TZID=Europe/Berlin:20260623T100000
DTEND;TZID=Europe/Berlin:20260623T113000
UID:26A43800-20260623T100000@VHSWILDESHAUSEN E. V.
SUMMARY:Deutsch im Alltag für Anfänger*innen (26A43800) 
LOCATION:Mehrgenerationenhaus, Seminarraum, Visbeker Straße 6, 27793 Wildeshausen
END:VEVENT
BEGIN:VEVENT
DTSTAMP:20260420T114558
DTSTART;TZID=Europe/Berlin:20260623T160000
DTEND;TZID=Europe/Berlin:20260623T173000
UID:26A43800-20260623T160000@VHSWILDESHAUSEN E. V.
SUMMARY:Deutsch im Alltag für Anfänger*innen (26A43800) 
LOCATION:Mehrgenerationenhaus, Seminarraum, Visbeker Straße 6, 27793 Wildeshausen
END:VEVENT
BEGIN:VEVENT
DTSTAMP:20260420T114558
DTSTART;TZID=Europe/Berlin:20260625T100000
DTEND;TZID=Europe/Berlin:20260625T113000
UID:26A43800-20260625T100000@VHSWILDESHAUSEN E. V.
SUMMARY:Deutsch im Alltag für Anfänger*innen (26A43800) 
LOCATION:Mehrgenerationenhaus, Seminarraum, Visbeker Straße 6, 27793 Wildeshausen
END:VEVENT
BEGIN:VEVENT
DTSTAMP:20260420T114558
DTSTART;TZID=Europe/Berlin:20260625T160000
DTEND;TZID=Europe/Berlin:20260625T173000
UID:26A43800-20260625T160000@VHSWILDESHAUSEN E. V.
SUMMARY:Deutsch im Alltag für Anfänger*innen (26A43800) 
LOCATION:Mehrgenerationenhaus, Seminarraum, Visbeker Straße 6, 27793 Wildeshausen
END:VEVENT
BEGIN:VEVENT
DTSTAMP:20260420T114558
DTSTART;TZID=Europe/Berlin:20260630T100000
DTEND;TZID=Europe/Berlin:20260630T113000
UID:26A43800-20260630T100000@VHSWILDESHAUSEN E. V.
SUMMARY:Deutsch im Alltag für Anfänger*innen (26A43800) 
LOCATION:Mehrgenerationenhaus, Seminarraum, Visbeker Straße 6, 27793 Wildeshausen
END:VEVENT
BEGIN:VEVENT
DTSTAMP:20260420T114558
DTSTART;TZID=Europe/Berlin:20260630T160000
DTEND;TZID=Europe/Berlin:20260630T173000
UID:26A43800-20260630T160000@VHSWILDESHAUSEN E. V.
SUMMARY:Deutsch im Alltag für Anfänger*innen (26A43800) 
LOCATION:Mehrgenerationenhaus, Seminarraum, Visbeker Straße 6, 27793 Wildeshausen
END:VEVENT
END:VCALENDAR