BEGIN:VCALENDAR
VERSION:2.0
PRODID:https://www.kufer.de/kuferweb / DE
METHOD:PUBLISH
CALSCALE:GREGORIAN
X-WR-TIMEZONE:Europe/Berlin
BEGIN:VTIMEZONE
TZID:Europe/Berlin
X-LIC-LOCATION:Europe/Berlin
BEGIN:DAYLIGHT
TZOFFSETFROM:+0100
TZOFFSETTO:+0200
TZNAME:CEST
DTSTART:19700329T020000
RRULE:FREQ=YEARLY;INTERVAL=1;BYDAY=-1SU;BYMONTH=3
END:DAYLIGHT
BEGIN:STANDARD
TZOFFSETFROM:+0200
TZOFFSETTO:+0100
TZNAME:CET
DTSTART:19701025T030000
RRULE:FREQ=YEARLY;INTERVAL=1;BYDAY=-1SU;BYMONTH=10
END:STANDARD
END:VTIMEZONE
BEGIN:VEVENT
DTSTAMP:20260421T124258
DTSTART;TZID=Europe/Berlin:20260615T081500
DTEND;TZID=Europe/Berlin:20260615T123000
UID:26A431461-20260615T081500@VHSWILDESHAUSEN E. V.
SUMMARY:Integrationskurs für Geringliteralisierte Kurs 146, Modul 1 (26A431461) 
LOCATION:VHS, Raum 12, Wittekindstraße 9, 27793 Wildeshausen
END:VEVENT
BEGIN:VEVENT
DTSTAMP:20260421T124258
DTSTART;TZID=Europe/Berlin:20260616T081500
DTEND;TZID=Europe/Berlin:20260616T123000
UID:26A431461-20260616T081500@VHSWILDESHAUSEN E. V.
SUMMARY:Integrationskurs für Geringliteralisierte Kurs 146, Modul 1 (26A431461) 
LOCATION:VHS, Raum 12, Wittekindstraße 9, 27793 Wildeshausen
END:VEVENT
BEGIN:VEVENT
DTSTAMP:20260421T124258
DTSTART;TZID=Europe/Berlin:20260617T081500
DTEND;TZID=Europe/Berlin:20260617T123000
UID:26A431461-20260617T081500@VHSWILDESHAUSEN E. V.
SUMMARY:Integrationskurs für Geringliteralisierte Kurs 146, Modul 1 (26A431461) 
LOCATION:VHS, Raum 12, Wittekindstraße 9, 27793 Wildeshausen
END:VEVENT
BEGIN:VEVENT
DTSTAMP:20260421T124258
DTSTART;TZID=Europe/Berlin:20260618T081500
DTEND;TZID=Europe/Berlin:20260618T123000
UID:26A431461-20260618T081500@VHSWILDESHAUSEN E. V.
SUMMARY:Integrationskurs für Geringliteralisierte Kurs 146, Modul 1 (26A431461) 
LOCATION:VHS, Raum 12, Wittekindstraße 9, 27793 Wildeshausen
END:VEVENT
BEGIN:VEVENT
DTSTAMP:20260421T124258
DTSTART;TZID=Europe/Berlin:20260622T081500
DTEND;TZID=Europe/Berlin:20260622T123000
UID:26A431461-20260622T081500@VHSWILDESHAUSEN E. V.
SUMMARY:Integrationskurs für Geringliteralisierte Kurs 146, Modul 1 (26A431461) 
LOCATION:VHS, Raum 12, Wittekindstraße 9, 27793 Wildeshausen
END:VEVENT
BEGIN:VEVENT
DTSTAMP:20260421T124258
DTSTART;TZID=Europe/Berlin:20260623T081500
DTEND;TZID=Europe/Berlin:20260623T123000
UID:26A431461-20260623T081500@VHSWILDESHAUSEN E. V.
SUMMARY:Integrationskurs für Geringliteralisierte Kurs 146, Modul 1 (26A431461) 
LOCATION:VHS, Raum 12, Wittekindstraße 9, 27793 Wildeshausen
END:VEVENT
BEGIN:VEVENT
DTSTAMP:20260421T124258
DTSTART;TZID=Europe/Berlin:20260624T081500
DTEND;TZID=Europe/Berlin:20260624T123000
UID:26A431461-20260624T081500@VHSWILDESHAUSEN E. V.
SUMMARY:Integrationskurs für Geringliteralisierte Kurs 146, Modul 1 (26A431461) 
LOCATION:VHS, Raum 12, Wittekindstraße 9, 27793 Wildeshausen
END:VEVENT
BEGIN:VEVENT
DTSTAMP:20260421T124258
DTSTART;TZID=Europe/Berlin:20260625T081500
DTEND;TZID=Europe/Berlin:20260625T123000
UID:26A431461-20260625T081500@VHSWILDESHAUSEN E. V.
SUMMARY:Integrationskurs für Geringliteralisierte Kurs 146, Modul 1 (26A431461) 
LOCATION:VHS, Raum 12, Wittekindstraße 9, 27793 Wildeshausen
END:VEVENT
BEGIN:VEVENT
DTSTAMP:20260421T124258
DTSTART;TZID=Europe/Berlin:20260629T081500
DTEND;TZID=Europe/Berlin:20260629T123000
UID:26A431461-20260629T081500@VHSWILDESHAUSEN E. V.
SUMMARY:Integrationskurs für Geringliteralisierte Kurs 146, Modul 1 (26A431461) 
LOCATION:VHS, Raum 12, Wittekindstraße 9, 27793 Wildeshausen
END:VEVENT
BEGIN:VEVENT
DTSTAMP:20260421T124258
DTSTART;TZID=Europe/Berlin:20260630T081500
DTEND;TZID=Europe/Berlin:20260630T123000
UID:26A431461-20260630T081500@VHSWILDESHAUSEN E. V.
SUMMARY:Integrationskurs für Geringliteralisierte Kurs 146, Modul 1 (26A431461) 
LOCATION:VHS, Raum 12, Wittekindstraße 9, 27793 Wildeshausen
END:VEVENT
END:VCALENDAR