BEGIN:VCALENDAR
VERSION:2.0
PRODID:https://www.kufer.de/kuferweb / DE
METHOD:PUBLISH
CALSCALE:GREGORIAN
X-WR-TIMEZONE:Europe/Berlin
BEGIN:VTIMEZONE
TZID:Europe/Berlin
X-LIC-LOCATION:Europe/Berlin
BEGIN:DAYLIGHT
TZOFFSETFROM:+0100
TZOFFSETTO:+0200
TZNAME:CEST
DTSTART:19700329T020000
RRULE:FREQ=YEARLY;INTERVAL=1;BYDAY=-1SU;BYMONTH=3
END:DAYLIGHT
BEGIN:STANDARD
TZOFFSETFROM:+0200
TZOFFSETTO:+0100
TZNAME:CET
DTSTART:19701025T030000
RRULE:FREQ=YEARLY;INTERVAL=1;BYDAY=-1SU;BYMONTH=10
END:STANDARD
END:VTIMEZONE
BEGIN:VEVENT
DTSTAMP:20260420T121555
DTSTART;TZID=Europe/Berlin:20260527T081500
DTEND;TZID=Europe/Berlin:20260527T123000
UID:26A431443-20260527T081500@VHSWILDESHAUSEN E. V.
SUMMARY:Allgemeiner Integrationskurs Kurs 144, Modul 3 (26A431443) 
LOCATION:VHS, Raum 16, Wittekindstraße 9, 27793 Wildeshausen
END:VEVENT
BEGIN:VEVENT
DTSTAMP:20260420T121555
DTSTART;TZID=Europe/Berlin:20260528T081500
DTEND;TZID=Europe/Berlin:20260528T123000
UID:26A431443-20260528T081500@VHSWILDESHAUSEN E. V.
SUMMARY:Allgemeiner Integrationskurs Kurs 144, Modul 3 (26A431443) 
LOCATION:VHS, Raum 16, Wittekindstraße 9, 27793 Wildeshausen
END:VEVENT
BEGIN:VEVENT
DTSTAMP:20260420T121555
DTSTART;TZID=Europe/Berlin:20260529T081500
DTEND;TZID=Europe/Berlin:20260529T123000
UID:26A431443-20260529T081500@VHSWILDESHAUSEN E. V.
SUMMARY:Allgemeiner Integrationskurs Kurs 144, Modul 3 (26A431443) 
LOCATION:VHS, Raum 16, Wittekindstraße 9, 27793 Wildeshausen
END:VEVENT
BEGIN:VEVENT
DTSTAMP:20260420T121555
DTSTART;TZID=Europe/Berlin:20260601T081500
DTEND;TZID=Europe/Berlin:20260601T123000
UID:26A431443-20260601T081500@VHSWILDESHAUSEN E. V.
SUMMARY:Allgemeiner Integrationskurs Kurs 144, Modul 3 (26A431443) 
LOCATION:VHS, Raum 16, Wittekindstraße 9, 27793 Wildeshausen
END:VEVENT
BEGIN:VEVENT
DTSTAMP:20260420T121555
DTSTART;TZID=Europe/Berlin:20260602T081500
DTEND;TZID=Europe/Berlin:20260602T123000
UID:26A431443-20260602T081500@VHSWILDESHAUSEN E. V.
SUMMARY:Allgemeiner Integrationskurs Kurs 144, Modul 3 (26A431443) 
LOCATION:VHS, Raum 16, Wittekindstraße 9, 27793 Wildeshausen
END:VEVENT
BEGIN:VEVENT
DTSTAMP:20260420T121555
DTSTART;TZID=Europe/Berlin:20260604T081500
DTEND;TZID=Europe/Berlin:20260604T123000
UID:26A431443-20260604T081500@VHSWILDESHAUSEN E. V.
SUMMARY:Allgemeiner Integrationskurs Kurs 144, Modul 3 (26A431443) 
LOCATION:VHS, Raum 16, Wittekindstraße 9, 27793 Wildeshausen
END:VEVENT
BEGIN:VEVENT
DTSTAMP:20260420T121555
DTSTART;TZID=Europe/Berlin:20260605T081500
DTEND;TZID=Europe/Berlin:20260605T123000
UID:26A431443-20260605T081500@VHSWILDESHAUSEN E. V.
DESCRIPTION:DTZ Prüfung
SUMMARY:Allgemeiner Integrationskurs Kurs 144, Modul 3 (26A431443) 
LOCATION:VHS, Raum 6, Wittekindstraße 9, 27793 Wildeshausen
END:VEVENT
BEGIN:VEVENT
DTSTAMP:20260420T121555
DTSTART;TZID=Europe/Berlin:20260608T081500
DTEND;TZID=Europe/Berlin:20260608T123000
UID:26A431443-20260608T081500@VHSWILDESHAUSEN E. V.
SUMMARY:Allgemeiner Integrationskurs Kurs 144, Modul 3 (26A431443) 
LOCATION:VHS, Raum 16, Wittekindstraße 9, 27793 Wildeshausen
END:VEVENT
BEGIN:VEVENT
DTSTAMP:20260420T121555
DTSTART;TZID=Europe/Berlin:20260609T081500
DTEND;TZID=Europe/Berlin:20260609T123000
UID:26A431443-20260609T081500@VHSWILDESHAUSEN E. V.
SUMMARY:Allgemeiner Integrationskurs Kurs 144, Modul 3 (26A431443) 
LOCATION:VHS, Raum 16, Wittekindstraße 9, 27793 Wildeshausen
END:VEVENT
BEGIN:VEVENT
DTSTAMP:20260420T121555
DTSTART;TZID=Europe/Berlin:20260611T081500
DTEND;TZID=Europe/Berlin:20260611T123000
UID:26A431443-20260611T081500@VHSWILDESHAUSEN E. V.
SUMMARY:Allgemeiner Integrationskurs Kurs 144, Modul 3 (26A431443) 
LOCATION:VHS, Raum 16, Wittekindstraße 9, 27793 Wildeshausen
END:VEVENT
BEGIN:VEVENT
DTSTAMP:20260420T121555
DTSTART;TZID=Europe/Berlin:20260612T081500
DTEND;TZID=Europe/Berlin:20260612T123000
UID:26A431443-20260612T081500@VHSWILDESHAUSEN E. V.
SUMMARY:Allgemeiner Integrationskurs Kurs 144, Modul 3 (26A431443) 
LOCATION:VHS, Raum 16, Wittekindstraße 9, 27793 Wildeshausen
END:VEVENT
BEGIN:VEVENT
DTSTAMP:20260420T121555
DTSTART;TZID=Europe/Berlin:20260615T081500
DTEND;TZID=Europe/Berlin:20260615T123000
UID:26A431443-20260615T081500@VHSWILDESHAUSEN E. V.
SUMMARY:Allgemeiner Integrationskurs Kurs 144, Modul 3 (26A431443) 
LOCATION:VHS, Raum 16, Wittekindstraße 9, 27793 Wildeshausen
END:VEVENT
BEGIN:VEVENT
DTSTAMP:20260420T121555
DTSTART;TZID=Europe/Berlin:20260616T081500
DTEND;TZID=Europe/Berlin:20260616T123000
UID:26A431443-20260616T081500@VHSWILDESHAUSEN E. V.
SUMMARY:Allgemeiner Integrationskurs Kurs 144, Modul 3 (26A431443) 
LOCATION:VHS, Raum 16, Wittekindstraße 9, 27793 Wildeshausen
END:VEVENT
BEGIN:VEVENT
DTSTAMP:20260420T121555
DTSTART;TZID=Europe/Berlin:20260618T081500
DTEND;TZID=Europe/Berlin:20260618T123000
UID:26A431443-20260618T081500@VHSWILDESHAUSEN E. V.
SUMMARY:Allgemeiner Integrationskurs Kurs 144, Modul 3 (26A431443) 
LOCATION:VHS, Raum 16, Wittekindstraße 9, 27793 Wildeshausen
END:VEVENT
END:VCALENDAR