BEGIN:VCALENDAR
VERSION:2.0
PRODID:https://www.kufer.de/kuferweb / DE
METHOD:PUBLISH
CALSCALE:GREGORIAN
X-WR-TIMEZONE:Europe/Berlin
BEGIN:VTIMEZONE
TZID:Europe/Berlin
X-LIC-LOCATION:Europe/Berlin
BEGIN:DAYLIGHT
TZOFFSETFROM:+0100
TZOFFSETTO:+0200
TZNAME:CEST
DTSTART:19700329T020000
RRULE:FREQ=YEARLY;INTERVAL=1;BYDAY=-1SU;BYMONTH=3
END:DAYLIGHT
BEGIN:STANDARD
TZOFFSETFROM:+0200
TZOFFSETTO:+0100
TZNAME:CET
DTSTART:19701025T030000
RRULE:FREQ=YEARLY;INTERVAL=1;BYDAY=-1SU;BYMONTH=10
END:STANDARD
END:VTIMEZONE
BEGIN:VEVENT
DTSTAMP:20260419T235057
DTSTART;TZID=Europe/Berlin:20260422T190000
DTEND;TZID=Europe/Berlin:20260422T203000
UID:26A43006-20260422T190000@VHSWILDESHAUSEN E. V.
SUMMARY:Deutsch als Zweitsprache Sprachniveau C1 (26A43006) 
LOCATION:VHS, Raum 11, Wittekindstraße 9, 27793 Wildeshausen
END:VEVENT
BEGIN:VEVENT
DTSTAMP:20260419T235057
DTSTART;TZID=Europe/Berlin:20260427T190000
DTEND;TZID=Europe/Berlin:20260427T203000
UID:26A43006-20260427T190000@VHSWILDESHAUSEN E. V.
SUMMARY:Deutsch als Zweitsprache Sprachniveau C1 (26A43006) 
LOCATION:VHS, Raum 11, Wittekindstraße 9, 27793 Wildeshausen
END:VEVENT
BEGIN:VEVENT
DTSTAMP:20260419T235057
DTSTART;TZID=Europe/Berlin:20260429T190000
DTEND;TZID=Europe/Berlin:20260429T203000
UID:26A43006-20260429T190000@VHSWILDESHAUSEN E. V.
SUMMARY:Deutsch als Zweitsprache Sprachniveau C1 (26A43006) 
LOCATION:VHS, Raum 11, Wittekindstraße 9, 27793 Wildeshausen
END:VEVENT
BEGIN:VEVENT
DTSTAMP:20260419T235057
DTSTART;TZID=Europe/Berlin:20260504T190000
DTEND;TZID=Europe/Berlin:20260504T203000
UID:26A43006-20260504T190000@VHSWILDESHAUSEN E. V.
SUMMARY:Deutsch als Zweitsprache Sprachniveau C1 (26A43006) 
LOCATION:VHS, Raum 11, Wittekindstraße 9, 27793 Wildeshausen
END:VEVENT
BEGIN:VEVENT
DTSTAMP:20260419T235057
DTSTART;TZID=Europe/Berlin:20260506T190000
DTEND;TZID=Europe/Berlin:20260506T203000
UID:26A43006-20260506T190000@VHSWILDESHAUSEN E. V.
SUMMARY:Deutsch als Zweitsprache Sprachniveau C1 (26A43006) 
LOCATION:VHS, Raum 11, Wittekindstraße 9, 27793 Wildeshausen
END:VEVENT
BEGIN:VEVENT
DTSTAMP:20260419T235057
DTSTART;TZID=Europe/Berlin:20260511T190000
DTEND;TZID=Europe/Berlin:20260511T203000
UID:26A43006-20260511T190000@VHSWILDESHAUSEN E. V.
SUMMARY:Deutsch als Zweitsprache Sprachniveau C1 (26A43006) 
LOCATION:VHS, Raum 11, Wittekindstraße 9, 27793 Wildeshausen
END:VEVENT
BEGIN:VEVENT
DTSTAMP:20260419T235057
DTSTART;TZID=Europe/Berlin:20260513T190000
DTEND;TZID=Europe/Berlin:20260513T203000
UID:26A43006-20260513T190000@VHSWILDESHAUSEN E. V.
SUMMARY:Deutsch als Zweitsprache Sprachniveau C1 (26A43006) 
LOCATION:VHS, Raum 11, Wittekindstraße 9, 27793 Wildeshausen
END:VEVENT
BEGIN:VEVENT
DTSTAMP:20260419T235057
DTSTART;TZID=Europe/Berlin:20260518T190000
DTEND;TZID=Europe/Berlin:20260518T203000
UID:26A43006-20260518T190000@VHSWILDESHAUSEN E. V.
SUMMARY:Deutsch als Zweitsprache Sprachniveau C1 (26A43006) 
LOCATION:VHS, Raum 11, Wittekindstraße 9, 27793 Wildeshausen
END:VEVENT
BEGIN:VEVENT
DTSTAMP:20260419T235057
DTSTART;TZID=Europe/Berlin:20260520T190000
DTEND;TZID=Europe/Berlin:20260520T203000
UID:26A43006-20260520T190000@VHSWILDESHAUSEN E. V.
SUMMARY:Deutsch als Zweitsprache Sprachniveau C1 (26A43006) 
LOCATION:VHS, Raum 11, Wittekindstraße 9, 27793 Wildeshausen
END:VEVENT
BEGIN:VEVENT
DTSTAMP:20260419T235057
DTSTART;TZID=Europe/Berlin:20260527T190000
DTEND;TZID=Europe/Berlin:20260527T203000
UID:26A43006-20260527T190000@VHSWILDESHAUSEN E. V.
SUMMARY:Deutsch als Zweitsprache Sprachniveau C1 (26A43006) 
LOCATION:VHS, Raum 11, Wittekindstraße 9, 27793 Wildeshausen
END:VEVENT
BEGIN:VEVENT
DTSTAMP:20260419T235057
DTSTART;TZID=Europe/Berlin:20260601T190000
DTEND;TZID=Europe/Berlin:20260601T203000
UID:26A43006-20260601T190000@VHSWILDESHAUSEN E. V.
SUMMARY:Deutsch als Zweitsprache Sprachniveau C1 (26A43006) 
LOCATION:VHS, Raum 11, Wittekindstraße 9, 27793 Wildeshausen
END:VEVENT
BEGIN:VEVENT
DTSTAMP:20260419T235057
DTSTART;TZID=Europe/Berlin:20260603T190000
DTEND;TZID=Europe/Berlin:20260603T203000
UID:26A43006-20260603T190000@VHSWILDESHAUSEN E. V.
SUMMARY:Deutsch als Zweitsprache Sprachniveau C1 (26A43006) 
LOCATION:VHS, Raum 11, Wittekindstraße 9, 27793 Wildeshausen
END:VEVENT
BEGIN:VEVENT
DTSTAMP:20260419T235057
DTSTART;TZID=Europe/Berlin:20260608T190000
DTEND;TZID=Europe/Berlin:20260608T203000
UID:26A43006-20260608T190000@VHSWILDESHAUSEN E. V.
SUMMARY:Deutsch als Zweitsprache Sprachniveau C1 (26A43006) 
LOCATION:VHS, Raum 11, Wittekindstraße 9, 27793 Wildeshausen
END:VEVENT
BEGIN:VEVENT
DTSTAMP:20260419T235057
DTSTART;TZID=Europe/Berlin:20260610T190000
DTEND;TZID=Europe/Berlin:20260610T203000
UID:26A43006-20260610T190000@VHSWILDESHAUSEN E. V.
SUMMARY:Deutsch als Zweitsprache Sprachniveau C1 (26A43006) 
LOCATION:VHS, Raum 11, Wittekindstraße 9, 27793 Wildeshausen
END:VEVENT
BEGIN:VEVENT
DTSTAMP:20260419T235057
DTSTART;TZID=Europe/Berlin:20260615T190000
DTEND;TZID=Europe/Berlin:20260615T203000
UID:26A43006-20260615T190000@VHSWILDESHAUSEN E. V.
SUMMARY:Deutsch als Zweitsprache Sprachniveau C1 (26A43006) 
LOCATION:VHS, Raum 11, Wittekindstraße 9, 27793 Wildeshausen
END:VEVENT
BEGIN:VEVENT
DTSTAMP:20260419T235057
DTSTART;TZID=Europe/Berlin:20260617T190000
DTEND;TZID=Europe/Berlin:20260617T203000
UID:26A43006-20260617T190000@VHSWILDESHAUSEN E. V.
SUMMARY:Deutsch als Zweitsprache Sprachniveau C1 (26A43006) 
LOCATION:VHS, Raum 11, Wittekindstraße 9, 27793 Wildeshausen
END:VEVENT
BEGIN:VEVENT
DTSTAMP:20260419T235057
DTSTART;TZID=Europe/Berlin:20260622T190000
DTEND;TZID=Europe/Berlin:20260622T203000
UID:26A43006-20260622T190000@VHSWILDESHAUSEN E. V.
SUMMARY:Deutsch als Zweitsprache Sprachniveau C1 (26A43006) 
LOCATION:VHS, Raum 11, Wittekindstraße 9, 27793 Wildeshausen
END:VEVENT
BEGIN:VEVENT
DTSTAMP:20260419T235057
DTSTART;TZID=Europe/Berlin:20260624T190000
DTEND;TZID=Europe/Berlin:20260624T203000
UID:26A43006-20260624T190000@VHSWILDESHAUSEN E. V.
SUMMARY:Deutsch als Zweitsprache Sprachniveau C1 (26A43006) 
LOCATION:VHS, Raum 11, Wittekindstraße 9, 27793 Wildeshausen
END:VEVENT
END:VCALENDAR