BEGIN:VCALENDAR
VERSION:2.0
PRODID:https://www.kufer.de/kuferweb / DE
METHOD:PUBLISH
CALSCALE:GREGORIAN
X-WR-TIMEZONE:Europe/Berlin
BEGIN:VTIMEZONE
TZID:Europe/Berlin
X-LIC-LOCATION:Europe/Berlin
BEGIN:DAYLIGHT
TZOFFSETFROM:+0100
TZOFFSETTO:+0200
TZNAME:CEST
DTSTART:19700329T020000
RRULE:FREQ=YEARLY;INTERVAL=1;BYDAY=-1SU;BYMONTH=3
END:DAYLIGHT
BEGIN:STANDARD
TZOFFSETFROM:+0200
TZOFFSETTO:+0100
TZNAME:CET
DTSTART:19701025T030000
RRULE:FREQ=YEARLY;INTERVAL=1;BYDAY=-1SU;BYMONTH=10
END:STANDARD
END:VTIMEZONE
BEGIN:VEVENT
DTSTAMP:20260420T025243
DTSTART;TZID=Europe/Berlin:20260421T190000
DTEND;TZID=Europe/Berlin:20260421T203000
UID:26A43004-20260421T190000@VHSWILDESHAUSEN E. V.
SUMMARY:Deutsch als Zweitsprache Sprachniveau A2.1 (26A43004) 
LOCATION:VHS am Bahnhof, Raum 12, Bahnhofstraße 24, 27793 Wildeshausen
END:VEVENT
BEGIN:VEVENT
DTSTAMP:20260420T025243
DTSTART;TZID=Europe/Berlin:20260423T190000
DTEND;TZID=Europe/Berlin:20260423T203000
UID:26A43004-20260423T190000@VHSWILDESHAUSEN E. V.
SUMMARY:Deutsch als Zweitsprache Sprachniveau A2.1 (26A43004) 
LOCATION:VHS am Bahnhof, Raum 13, Bahnhofstraße 24, 27793 Wildeshausen
END:VEVENT
BEGIN:VEVENT
DTSTAMP:20260420T025243
DTSTART;TZID=Europe/Berlin:20260428T190000
DTEND;TZID=Europe/Berlin:20260428T203000
UID:26A43004-20260428T190000@VHSWILDESHAUSEN E. V.
SUMMARY:Deutsch als Zweitsprache Sprachniveau A2.1 (26A43004) 
LOCATION:VHS am Bahnhof, Raum 12, Bahnhofstraße 24, 27793 Wildeshausen
END:VEVENT
BEGIN:VEVENT
DTSTAMP:20260420T025243
DTSTART;TZID=Europe/Berlin:20260430T190000
DTEND;TZID=Europe/Berlin:20260430T203000
UID:26A43004-20260430T190000@VHSWILDESHAUSEN E. V.
SUMMARY:Deutsch als Zweitsprache Sprachniveau A2.1 (26A43004) 
LOCATION:VHS am Bahnhof, Raum 12, Bahnhofstraße 24, 27793 Wildeshausen
END:VEVENT
BEGIN:VEVENT
DTSTAMP:20260420T025243
DTSTART;TZID=Europe/Berlin:20260505T190000
DTEND;TZID=Europe/Berlin:20260505T203000
UID:26A43004-20260505T190000@VHSWILDESHAUSEN E. V.
SUMMARY:Deutsch als Zweitsprache Sprachniveau A2.1 (26A43004) 
LOCATION:VHS am Bahnhof, Raum 12, Bahnhofstraße 24, 27793 Wildeshausen
END:VEVENT
BEGIN:VEVENT
DTSTAMP:20260420T025243
DTSTART;TZID=Europe/Berlin:20260507T190000
DTEND;TZID=Europe/Berlin:20260507T203000
UID:26A43004-20260507T190000@VHSWILDESHAUSEN E. V.
SUMMARY:Deutsch als Zweitsprache Sprachniveau A2.1 (26A43004) 
LOCATION:VHS am Bahnhof, Raum 12, Bahnhofstraße 24, 27793 Wildeshausen
END:VEVENT
BEGIN:VEVENT
DTSTAMP:20260420T025243
DTSTART;TZID=Europe/Berlin:20260512T190000
DTEND;TZID=Europe/Berlin:20260512T203000
UID:26A43004-20260512T190000@VHSWILDESHAUSEN E. V.
SUMMARY:Deutsch als Zweitsprache Sprachniveau A2.1 (26A43004) 
LOCATION:VHS am Bahnhof, Raum 12, Bahnhofstraße 24, 27793 Wildeshausen
END:VEVENT
BEGIN:VEVENT
DTSTAMP:20260420T025243
DTSTART;TZID=Europe/Berlin:20260519T190000
DTEND;TZID=Europe/Berlin:20260519T203000
UID:26A43004-20260519T190000@VHSWILDESHAUSEN E. V.
SUMMARY:Deutsch als Zweitsprache Sprachniveau A2.1 (26A43004) 
LOCATION:VHS am Bahnhof, Raum 12, Bahnhofstraße 24, 27793 Wildeshausen
END:VEVENT
BEGIN:VEVENT
DTSTAMP:20260420T025243
DTSTART;TZID=Europe/Berlin:20260521T190000
DTEND;TZID=Europe/Berlin:20260521T203000
UID:26A43004-20260521T190000@VHSWILDESHAUSEN E. V.
SUMMARY:Deutsch als Zweitsprache Sprachniveau A2.1 (26A43004) 
LOCATION:VHS am Bahnhof, Raum 13, Bahnhofstraße 24, 27793 Wildeshausen
END:VEVENT
BEGIN:VEVENT
DTSTAMP:20260420T025243
DTSTART;TZID=Europe/Berlin:20260528T190000
DTEND;TZID=Europe/Berlin:20260528T203000
UID:26A43004-20260528T190000@VHSWILDESHAUSEN E. V.
SUMMARY:Deutsch als Zweitsprache Sprachniveau A2.1 (26A43004) 
LOCATION:VHS am Bahnhof, Raum 13, Bahnhofstraße 24, 27793 Wildeshausen
END:VEVENT
BEGIN:VEVENT
DTSTAMP:20260420T025243
DTSTART;TZID=Europe/Berlin:20260602T190000
DTEND;TZID=Europe/Berlin:20260602T203000
UID:26A43004-20260602T190000@VHSWILDESHAUSEN E. V.
SUMMARY:Deutsch als Zweitsprache Sprachniveau A2.1 (26A43004) 
LOCATION:VHS am Bahnhof, Raum 12, Bahnhofstraße 24, 27793 Wildeshausen
END:VEVENT
BEGIN:VEVENT
DTSTAMP:20260420T025243
DTSTART;TZID=Europe/Berlin:20260604T190000
DTEND;TZID=Europe/Berlin:20260604T203000
UID:26A43004-20260604T190000@VHSWILDESHAUSEN E. V.
SUMMARY:Deutsch als Zweitsprache Sprachniveau A2.1 (26A43004) 
LOCATION:VHS am Bahnhof, Raum 13, Bahnhofstraße 24, 27793 Wildeshausen
END:VEVENT
BEGIN:VEVENT
DTSTAMP:20260420T025243
DTSTART;TZID=Europe/Berlin:20260609T190000
DTEND;TZID=Europe/Berlin:20260609T203000
UID:26A43004-20260609T190000@VHSWILDESHAUSEN E. V.
SUMMARY:Deutsch als Zweitsprache Sprachniveau A2.1 (26A43004) 
LOCATION:VHS am Bahnhof, Raum 12, Bahnhofstraße 24, 27793 Wildeshausen
END:VEVENT
BEGIN:VEVENT
DTSTAMP:20260420T025243
DTSTART;TZID=Europe/Berlin:20260611T190000
DTEND;TZID=Europe/Berlin:20260611T203000
UID:26A43004-20260611T190000@VHSWILDESHAUSEN E. V.
SUMMARY:Deutsch als Zweitsprache Sprachniveau A2.1 (26A43004) 
LOCATION:VHS am Bahnhof, Raum 12, Bahnhofstraße 24, 27793 Wildeshausen
END:VEVENT
BEGIN:VEVENT
DTSTAMP:20260420T025243
DTSTART;TZID=Europe/Berlin:20260616T190000
DTEND;TZID=Europe/Berlin:20260616T203000
UID:26A43004-20260616T190000@VHSWILDESHAUSEN E. V.
SUMMARY:Deutsch als Zweitsprache Sprachniveau A2.1 (26A43004) 
LOCATION:VHS am Bahnhof, Raum 12, Bahnhofstraße 24, 27793 Wildeshausen
END:VEVENT
BEGIN:VEVENT
DTSTAMP:20260420T025243
DTSTART;TZID=Europe/Berlin:20260618T190000
DTEND;TZID=Europe/Berlin:20260618T203000
UID:26A43004-20260618T190000@VHSWILDESHAUSEN E. V.
SUMMARY:Deutsch als Zweitsprache Sprachniveau A2.1 (26A43004) 
LOCATION:VHS am Bahnhof, Raum 12, Bahnhofstraße 24, 27793 Wildeshausen
END:VEVENT
BEGIN:VEVENT
DTSTAMP:20260420T025243
DTSTART;TZID=Europe/Berlin:20260623T190000
DTEND;TZID=Europe/Berlin:20260623T203000
UID:26A43004-20260623T190000@VHSWILDESHAUSEN E. V.
SUMMARY:Deutsch als Zweitsprache Sprachniveau A2.1 (26A43004) 
LOCATION:VHS am Bahnhof, Raum 12, Bahnhofstraße 24, 27793 Wildeshausen
END:VEVENT
BEGIN:VEVENT
DTSTAMP:20260420T025243
DTSTART;TZID=Europe/Berlin:20260625T190000
DTEND;TZID=Europe/Berlin:20260625T203000
UID:26A43004-20260625T190000@VHSWILDESHAUSEN E. V.
SUMMARY:Deutsch als Zweitsprache Sprachniveau A2.1 (26A43004) 
LOCATION:VHS am Bahnhof, Raum 12, Bahnhofstraße 24, 27793 Wildeshausen
END:VEVENT
END:VCALENDAR